BEGIN:VCALENDAR
VERSION:2.0
PRODID:-//Latin American Coalition - ECPv6.15.20//NONSGML v1.0//EN
CALSCALE:GREGORIAN
METHOD:PUBLISH
X-WR-CALNAME:Latin American Coalition
X-ORIGINAL-URL:https://mylac.org/es
X-WR-CALDESC:Eventos para Latin American Coalition
REFRESH-INTERVAL;VALUE=DURATION:PT1H
X-Robots-Tag:noindex
X-PUBLISHED-TTL:PT1H
BEGIN:VTIMEZONE
TZID:America/New_York
BEGIN:DAYLIGHT
TZOFFSETFROM:-0500
TZOFFSETTO:-0400
TZNAME:EDT
DTSTART:20250309T070000
END:DAYLIGHT
BEGIN:STANDARD
TZOFFSETFROM:-0400
TZOFFSETTO:-0500
TZNAME:EST
DTSTART:20251102T060000
END:STANDARD
BEGIN:DAYLIGHT
TZOFFSETFROM:-0500
TZOFFSETTO:-0400
TZNAME:EDT
DTSTART:20260308T070000
END:DAYLIGHT
BEGIN:STANDARD
TZOFFSETFROM:-0400
TZOFFSETTO:-0500
TZNAME:EST
DTSTART:20261101T060000
END:STANDARD
BEGIN:DAYLIGHT
TZOFFSETFROM:-0500
TZOFFSETTO:-0400
TZNAME:EDT
DTSTART:20270314T070000
END:DAYLIGHT
BEGIN:STANDARD
TZOFFSETFROM:-0400
TZOFFSETTO:-0500
TZNAME:EST
DTSTART:20271107T060000
END:STANDARD
END:VTIMEZONE
BEGIN:VEVENT
DTSTART;TZID=America/New_York:20260420T093000
DTEND;TZID=America/New_York:20260420T143000
DTSTAMP:20260419T120108
CREATED:20260130T180433Z
LAST-MODIFIED:20260227T172613Z
UID:10001208-1776677400-1776695400@mylac.org
SUMMARY:Explore your Health Coverage Options
DESCRIPTION:
URL:https://mylac.org/es/event/navegador-de-salud/2026-04-20/
LOCATION:Latin American Coalition Offices\, 4938 Central Ave. Suite 101\, Charlotte\, 28205\, United States
ATTACH;FMTTYPE=image/png:https://mylac.org/wp-content/uploads/2026/01/18.png
END:VEVENT
BEGIN:VEVENT
DTSTART;TZID=America/New_York:20260427T093000
DTEND;TZID=America/New_York:20260427T143000
DTSTAMP:20260419T120108
CREATED:20260130T180433Z
LAST-MODIFIED:20260227T172613Z
UID:10001209-1777282200-1777300200@mylac.org
SUMMARY:Explore your Health Coverage Options
DESCRIPTION:
URL:https://mylac.org/es/event/navegador-de-salud/2026-04-27/
LOCATION:Latin American Coalition Offices\, 4938 Central Ave. Suite 101\, Charlotte\, 28205\, United States
ATTACH;FMTTYPE=image/png:https://mylac.org/wp-content/uploads/2026/01/18.png
END:VEVENT
BEGIN:VEVENT
DTSTART;TZID=America/New_York:20260504T093000
DTEND;TZID=America/New_York:20260504T143000
DTSTAMP:20260419T120108
CREATED:20260130T180433Z
LAST-MODIFIED:20260227T172613Z
UID:10001210-1777887000-1777905000@mylac.org
SUMMARY:Explore your Health Coverage Options
DESCRIPTION:
URL:https://mylac.org/es/event/navegador-de-salud/2026-05-04/
LOCATION:Latin American Coalition Offices\, 4938 Central Ave. Suite 101\, Charlotte\, 28205\, United States
ATTACH;FMTTYPE=image/png:https://mylac.org/wp-content/uploads/2026/01/18.png
END:VEVENT
BEGIN:VEVENT
DTSTART;TZID=America/New_York:20260511T093000
DTEND;TZID=America/New_York:20260511T143000
DTSTAMP:20260419T120108
CREATED:20260130T180433Z
LAST-MODIFIED:20260227T172613Z
UID:10001211-1778491800-1778509800@mylac.org
SUMMARY:Explore your Health Coverage Options
DESCRIPTION:
URL:https://mylac.org/es/event/navegador-de-salud/2026-05-11/
LOCATION:Latin American Coalition Offices\, 4938 Central Ave. Suite 101\, Charlotte\, 28205\, United States
ATTACH;FMTTYPE=image/png:https://mylac.org/wp-content/uploads/2026/01/18.png
END:VEVENT
BEGIN:VEVENT
DTSTART;TZID=America/New_York:20260518T093000
DTEND;TZID=America/New_York:20260518T143000
DTSTAMP:20260419T120108
CREATED:20260130T180433Z
LAST-MODIFIED:20260227T172613Z
UID:10001212-1779096600-1779114600@mylac.org
SUMMARY:Explore your Health Coverage Options
DESCRIPTION:
URL:https://mylac.org/es/event/navegador-de-salud/2026-05-18/
LOCATION:Latin American Coalition Offices\, 4938 Central Ave. Suite 101\, Charlotte\, 28205\, United States
ATTACH;FMTTYPE=image/png:https://mylac.org/wp-content/uploads/2026/01/18.png
END:VEVENT
BEGIN:VEVENT
DTSTART;TZID=America/New_York:20260525T093000
DTEND;TZID=America/New_York:20260525T143000
DTSTAMP:20260419T120108
CREATED:20260130T180433Z
LAST-MODIFIED:20260227T172613Z
UID:10001213-1779701400-1779719400@mylac.org
SUMMARY:Explore your Health Coverage Options
DESCRIPTION:
URL:https://mylac.org/es/event/navegador-de-salud/2026-05-25/
LOCATION:Latin American Coalition Offices\, 4938 Central Ave. Suite 101\, Charlotte\, 28205\, United States
ATTACH;FMTTYPE=image/png:https://mylac.org/wp-content/uploads/2026/01/18.png
END:VEVENT
BEGIN:VEVENT
DTSTART;TZID=America/New_York:20260601T093000
DTEND;TZID=America/New_York:20260601T143000
DTSTAMP:20260419T120108
CREATED:20260130T180433Z
LAST-MODIFIED:20260227T172613Z
UID:10001214-1780306200-1780324200@mylac.org
SUMMARY:Explore your Health Coverage Options
DESCRIPTION:
URL:https://mylac.org/es/event/navegador-de-salud/2026-06-01/
LOCATION:Latin American Coalition Offices\, 4938 Central Ave. Suite 101\, Charlotte\, 28205\, United States
ATTACH;FMTTYPE=image/png:https://mylac.org/wp-content/uploads/2026/01/18.png
END:VEVENT
BEGIN:VEVENT
DTSTART;TZID=America/New_York:20260608T093000
DTEND;TZID=America/New_York:20260608T143000
DTSTAMP:20260419T120108
CREATED:20260130T180433Z
LAST-MODIFIED:20260227T172613Z
UID:10001215-1780911000-1780929000@mylac.org
SUMMARY:Explore your Health Coverage Options
DESCRIPTION:
URL:https://mylac.org/es/event/navegador-de-salud/2026-06-08/
LOCATION:Latin American Coalition Offices\, 4938 Central Ave. Suite 101\, Charlotte\, 28205\, United States
ATTACH;FMTTYPE=image/png:https://mylac.org/wp-content/uploads/2026/01/18.png
END:VEVENT
BEGIN:VEVENT
DTSTART;TZID=America/New_York:20260615T093000
DTEND;TZID=America/New_York:20260615T143000
DTSTAMP:20260419T120108
CREATED:20260130T180433Z
LAST-MODIFIED:20260227T172613Z
UID:10001216-1781515800-1781533800@mylac.org
SUMMARY:Explore your Health Coverage Options
DESCRIPTION:
URL:https://mylac.org/es/event/navegador-de-salud/2026-06-15/
LOCATION:Latin American Coalition Offices\, 4938 Central Ave. Suite 101\, Charlotte\, 28205\, United States
ATTACH;FMTTYPE=image/png:https://mylac.org/wp-content/uploads/2026/01/18.png
END:VEVENT
BEGIN:VEVENT
DTSTART;TZID=America/New_York:20260622T093000
DTEND;TZID=America/New_York:20260622T143000
DTSTAMP:20260419T120108
CREATED:20260130T180433Z
LAST-MODIFIED:20260227T172613Z
UID:10001217-1782120600-1782138600@mylac.org
SUMMARY:Explore your Health Coverage Options
DESCRIPTION:
URL:https://mylac.org/es/event/navegador-de-salud/2026-06-22/
LOCATION:Latin American Coalition Offices\, 4938 Central Ave. Suite 101\, Charlotte\, 28205\, United States
ATTACH;FMTTYPE=image/png:https://mylac.org/wp-content/uploads/2026/01/18.png
END:VEVENT
BEGIN:VEVENT
DTSTART;TZID=America/New_York:20260629T093000
DTEND;TZID=America/New_York:20260629T143000
DTSTAMP:20260419T120108
CREATED:20260130T180433Z
LAST-MODIFIED:20260227T172613Z
UID:10001218-1782725400-1782743400@mylac.org
SUMMARY:Explore your Health Coverage Options
DESCRIPTION:
URL:https://mylac.org/es/event/navegador-de-salud/2026-06-29/
LOCATION:Latin American Coalition Offices\, 4938 Central Ave. Suite 101\, Charlotte\, 28205\, United States
ATTACH;FMTTYPE=image/png:https://mylac.org/wp-content/uploads/2026/01/18.png
END:VEVENT
BEGIN:VEVENT
DTSTART;TZID=America/New_York:20260706T093000
DTEND;TZID=America/New_York:20260706T143000
DTSTAMP:20260419T120108
CREATED:20260130T180433Z
LAST-MODIFIED:20260227T172613Z
UID:10001219-1783330200-1783348200@mylac.org
SUMMARY:Explore your Health Coverage Options
DESCRIPTION:
URL:https://mylac.org/es/event/navegador-de-salud/2026-07-06/
LOCATION:Latin American Coalition Offices\, 4938 Central Ave. Suite 101\, Charlotte\, 28205\, United States
ATTACH;FMTTYPE=image/png:https://mylac.org/wp-content/uploads/2026/01/18.png
END:VEVENT
BEGIN:VEVENT
DTSTART;TZID=America/New_York:20260713T093000
DTEND;TZID=America/New_York:20260713T143000
DTSTAMP:20260419T120108
CREATED:20260130T180433Z
LAST-MODIFIED:20260227T172613Z
UID:10001220-1783935000-1783953000@mylac.org
SUMMARY:Explore your Health Coverage Options
DESCRIPTION:
URL:https://mylac.org/es/event/navegador-de-salud/2026-07-13/
LOCATION:Latin American Coalition Offices\, 4938 Central Ave. Suite 101\, Charlotte\, 28205\, United States
ATTACH;FMTTYPE=image/png:https://mylac.org/wp-content/uploads/2026/01/18.png
END:VEVENT
BEGIN:VEVENT
DTSTART;TZID=America/New_York:20260720T093000
DTEND;TZID=America/New_York:20260720T143000
DTSTAMP:20260419T120108
CREATED:20260130T180433Z
LAST-MODIFIED:20260227T172613Z
UID:10001221-1784539800-1784557800@mylac.org
SUMMARY:Explore your Health Coverage Options
DESCRIPTION:
URL:https://mylac.org/es/event/navegador-de-salud/2026-07-20/
LOCATION:Latin American Coalition Offices\, 4938 Central Ave. Suite 101\, Charlotte\, 28205\, United States
ATTACH;FMTTYPE=image/png:https://mylac.org/wp-content/uploads/2026/01/18.png
END:VEVENT
BEGIN:VEVENT
DTSTART;TZID=America/New_York:20260727T093000
DTEND;TZID=America/New_York:20260727T143000
DTSTAMP:20260419T120108
CREATED:20260130T180433Z
LAST-MODIFIED:20260227T172613Z
UID:10001222-1785144600-1785162600@mylac.org
SUMMARY:Explore your Health Coverage Options
DESCRIPTION:
URL:https://mylac.org/es/event/navegador-de-salud/2026-07-27/
LOCATION:Latin American Coalition Offices\, 4938 Central Ave. Suite 101\, Charlotte\, 28205\, United States
ATTACH;FMTTYPE=image/png:https://mylac.org/wp-content/uploads/2026/01/18.png
END:VEVENT
BEGIN:VEVENT
DTSTART;TZID=America/New_York:20260803T093000
DTEND;TZID=America/New_York:20260803T143000
DTSTAMP:20260419T120108
CREATED:20260130T180433Z
LAST-MODIFIED:20260227T172613Z
UID:10001223-1785749400-1785767400@mylac.org
SUMMARY:Explore your Health Coverage Options
DESCRIPTION:
URL:https://mylac.org/es/event/navegador-de-salud/2026-08-03/
LOCATION:Latin American Coalition Offices\, 4938 Central Ave. Suite 101\, Charlotte\, 28205\, United States
ATTACH;FMTTYPE=image/png:https://mylac.org/wp-content/uploads/2026/01/18.png
END:VEVENT
BEGIN:VEVENT
DTSTART;TZID=America/New_York:20260810T093000
DTEND;TZID=America/New_York:20260810T143000
DTSTAMP:20260419T120108
CREATED:20260130T180433Z
LAST-MODIFIED:20260227T172613Z
UID:10001224-1786354200-1786372200@mylac.org
SUMMARY:Explore your Health Coverage Options
DESCRIPTION:
URL:https://mylac.org/es/event/navegador-de-salud/2026-08-10/
LOCATION:Latin American Coalition Offices\, 4938 Central Ave. Suite 101\, Charlotte\, 28205\, United States
ATTACH;FMTTYPE=image/png:https://mylac.org/wp-content/uploads/2026/01/18.png
END:VEVENT
BEGIN:VEVENT
DTSTART;TZID=America/New_York:20260817T093000
DTEND;TZID=America/New_York:20260817T143000
DTSTAMP:20260419T120108
CREATED:20260130T180433Z
LAST-MODIFIED:20260227T172613Z
UID:10001225-1786959000-1786977000@mylac.org
SUMMARY:Explore your Health Coverage Options
DESCRIPTION:
URL:https://mylac.org/es/event/navegador-de-salud/2026-08-17/
LOCATION:Latin American Coalition Offices\, 4938 Central Ave. Suite 101\, Charlotte\, 28205\, United States
ATTACH;FMTTYPE=image/png:https://mylac.org/wp-content/uploads/2026/01/18.png
END:VEVENT
BEGIN:VEVENT
DTSTART;TZID=America/New_York:20260824T093000
DTEND;TZID=America/New_York:20260824T143000
DTSTAMP:20260419T120108
CREATED:20260130T180433Z
LAST-MODIFIED:20260227T172613Z
UID:10001226-1787563800-1787581800@mylac.org
SUMMARY:Explore your Health Coverage Options
DESCRIPTION:
URL:https://mylac.org/es/event/navegador-de-salud/2026-08-24/
LOCATION:Latin American Coalition Offices\, 4938 Central Ave. Suite 101\, Charlotte\, 28205\, United States
ATTACH;FMTTYPE=image/png:https://mylac.org/wp-content/uploads/2026/01/18.png
END:VEVENT
BEGIN:VEVENT
DTSTART;TZID=America/New_York:20260831T093000
DTEND;TZID=America/New_York:20260831T143000
DTSTAMP:20260419T120108
CREATED:20260130T180433Z
LAST-MODIFIED:20260227T172613Z
UID:10001227-1788168600-1788186600@mylac.org
SUMMARY:Explore your Health Coverage Options
DESCRIPTION:
URL:https://mylac.org/es/event/navegador-de-salud/2026-08-31/
LOCATION:Latin American Coalition Offices\, 4938 Central Ave. Suite 101\, Charlotte\, 28205\, United States
ATTACH;FMTTYPE=image/png:https://mylac.org/wp-content/uploads/2026/01/18.png
END:VEVENT
BEGIN:VEVENT
DTSTART;TZID=America/New_York:20260907T093000
DTEND;TZID=America/New_York:20260907T143000
DTSTAMP:20260419T120108
CREATED:20260130T180433Z
LAST-MODIFIED:20260227T172613Z
UID:10001228-1788773400-1788791400@mylac.org
SUMMARY:Explore your Health Coverage Options
DESCRIPTION:
URL:https://mylac.org/es/event/navegador-de-salud/2026-09-07/
LOCATION:Latin American Coalition Offices\, 4938 Central Ave. Suite 101\, Charlotte\, 28205\, United States
ATTACH;FMTTYPE=image/png:https://mylac.org/wp-content/uploads/2026/01/18.png
END:VEVENT
BEGIN:VEVENT
DTSTART;TZID=America/New_York:20260914T093000
DTEND;TZID=America/New_York:20260914T143000
DTSTAMP:20260419T120108
CREATED:20260130T180433Z
LAST-MODIFIED:20260227T172613Z
UID:10001229-1789378200-1789396200@mylac.org
SUMMARY:Explore your Health Coverage Options
DESCRIPTION:
URL:https://mylac.org/es/event/navegador-de-salud/2026-09-14/
LOCATION:Latin American Coalition Offices\, 4938 Central Ave. Suite 101\, Charlotte\, 28205\, United States
ATTACH;FMTTYPE=image/png:https://mylac.org/wp-content/uploads/2026/01/18.png
END:VEVENT
BEGIN:VEVENT
DTSTART;TZID=America/New_York:20260921T093000
DTEND;TZID=America/New_York:20260921T143000
DTSTAMP:20260419T120108
CREATED:20260130T180433Z
LAST-MODIFIED:20260227T172613Z
UID:10001230-1789983000-1790001000@mylac.org
SUMMARY:Explore your Health Coverage Options
DESCRIPTION:
URL:https://mylac.org/es/event/navegador-de-salud/2026-09-21/
LOCATION:Latin American Coalition Offices\, 4938 Central Ave. Suite 101\, Charlotte\, 28205\, United States
ATTACH;FMTTYPE=image/png:https://mylac.org/wp-content/uploads/2026/01/18.png
END:VEVENT
BEGIN:VEVENT
DTSTART;TZID=America/New_York:20260928T093000
DTEND;TZID=America/New_York:20260928T143000
DTSTAMP:20260419T120108
CREATED:20260130T180433Z
LAST-MODIFIED:20260227T172613Z
UID:10001231-1790587800-1790605800@mylac.org
SUMMARY:Explore your Health Coverage Options
DESCRIPTION:
URL:https://mylac.org/es/event/navegador-de-salud/2026-09-28/
LOCATION:Latin American Coalition Offices\, 4938 Central Ave. Suite 101\, Charlotte\, 28205\, United States
ATTACH;FMTTYPE=image/png:https://mylac.org/wp-content/uploads/2026/01/18.png
END:VEVENT
BEGIN:VEVENT
DTSTART;TZID=America/New_York:20261005T093000
DTEND;TZID=America/New_York:20261005T143000
DTSTAMP:20260419T120108
CREATED:20260130T180433Z
LAST-MODIFIED:20260227T172613Z
UID:10001232-1791192600-1791210600@mylac.org
SUMMARY:Explore your Health Coverage Options
DESCRIPTION:
URL:https://mylac.org/es/event/navegador-de-salud/2026-10-05/
LOCATION:Latin American Coalition Offices\, 4938 Central Ave. Suite 101\, Charlotte\, 28205\, United States
ATTACH;FMTTYPE=image/png:https://mylac.org/wp-content/uploads/2026/01/18.png
END:VEVENT
BEGIN:VEVENT
DTSTART;TZID=America/New_York:20261012T093000
DTEND;TZID=America/New_York:20261012T143000
DTSTAMP:20260419T120108
CREATED:20260130T180433Z
LAST-MODIFIED:20260227T172613Z
UID:10001233-1791797400-1791815400@mylac.org
SUMMARY:Explore your Health Coverage Options
DESCRIPTION:
URL:https://mylac.org/es/event/navegador-de-salud/2026-10-12/
LOCATION:Latin American Coalition Offices\, 4938 Central Ave. Suite 101\, Charlotte\, 28205\, United States
ATTACH;FMTTYPE=image/png:https://mylac.org/wp-content/uploads/2026/01/18.png
END:VEVENT
BEGIN:VEVENT
DTSTART;TZID=America/New_York:20261019T093000
DTEND;TZID=America/New_York:20261019T143000
DTSTAMP:20260419T120108
CREATED:20260130T180433Z
LAST-MODIFIED:20260227T172613Z
UID:10001234-1792402200-1792420200@mylac.org
SUMMARY:Explore your Health Coverage Options
DESCRIPTION:
URL:https://mylac.org/es/event/navegador-de-salud/2026-10-19/
LOCATION:Latin American Coalition Offices\, 4938 Central Ave. Suite 101\, Charlotte\, 28205\, United States
ATTACH;FMTTYPE=image/png:https://mylac.org/wp-content/uploads/2026/01/18.png
END:VEVENT
BEGIN:VEVENT
DTSTART;TZID=America/New_York:20261026T093000
DTEND;TZID=America/New_York:20261026T143000
DTSTAMP:20260419T120108
CREATED:20260130T180433Z
LAST-MODIFIED:20260227T172613Z
UID:10001235-1793007000-1793025000@mylac.org
SUMMARY:Explore your Health Coverage Options
DESCRIPTION:
URL:https://mylac.org/es/event/navegador-de-salud/2026-10-26/
LOCATION:Latin American Coalition Offices\, 4938 Central Ave. Suite 101\, Charlotte\, 28205\, United States
ATTACH;FMTTYPE=image/png:https://mylac.org/wp-content/uploads/2026/01/18.png
END:VEVENT
BEGIN:VEVENT
DTSTART;TZID=America/New_York:20261102T093000
DTEND;TZID=America/New_York:20261102T143000
DTSTAMP:20260419T120108
CREATED:20260130T180433Z
LAST-MODIFIED:20260227T172613Z
UID:10001236-1793611800-1793629800@mylac.org
SUMMARY:Explore your Health Coverage Options
DESCRIPTION:
URL:https://mylac.org/es/event/navegador-de-salud/2026-11-02/
LOCATION:Latin American Coalition Offices\, 4938 Central Ave. Suite 101\, Charlotte\, 28205\, United States
ATTACH;FMTTYPE=image/png:https://mylac.org/wp-content/uploads/2026/01/18.png
END:VEVENT
BEGIN:VEVENT
DTSTART;TZID=America/New_York:20261109T093000
DTEND;TZID=America/New_York:20261109T143000
DTSTAMP:20260419T120108
CREATED:20260130T180433Z
LAST-MODIFIED:20260227T172613Z
UID:10001237-1794216600-1794234600@mylac.org
SUMMARY:Explore your Health Coverage Options
DESCRIPTION:
URL:https://mylac.org/es/event/navegador-de-salud/2026-11-09/
LOCATION:Latin American Coalition Offices\, 4938 Central Ave. Suite 101\, Charlotte\, 28205\, United States
ATTACH;FMTTYPE=image/png:https://mylac.org/wp-content/uploads/2026/01/18.png
END:VEVENT
END:VCALENDAR