BEGIN:VCALENDAR
VERSION:2.0
PRODID:-//Latin American Coalition - ECPv6.15.20//NONSGML v1.0//EN
CALSCALE:GREGORIAN
METHOD:PUBLISH
X-WR-CALNAME:Latin American Coalition
X-ORIGINAL-URL:https://mylac.org
X-WR-CALDESC:Events for Latin American Coalition
REFRESH-INTERVAL;VALUE=DURATION:PT1H
X-Robots-Tag:noindex
X-PUBLISHED-TTL:PT1H
BEGIN:VTIMEZONE
TZID:America/New_York
BEGIN:DAYLIGHT
TZOFFSETFROM:-0500
TZOFFSETTO:-0400
TZNAME:EDT
DTSTART:20270314T070000
END:DAYLIGHT
BEGIN:STANDARD
TZOFFSETFROM:-0400
TZOFFSETTO:-0500
TZNAME:EST
DTSTART:20271107T060000
END:STANDARD
BEGIN:DAYLIGHT
TZOFFSETFROM:-0500
TZOFFSETTO:-0400
TZNAME:EDT
DTSTART:20280312T070000
END:DAYLIGHT
BEGIN:STANDARD
TZOFFSETFROM:-0400
TZOFFSETTO:-0500
TZNAME:EST
DTSTART:20281105T060000
END:STANDARD
BEGIN:DAYLIGHT
TZOFFSETFROM:-0500
TZOFFSETTO:-0400
TZNAME:EDT
DTSTART:20290311T070000
END:DAYLIGHT
BEGIN:STANDARD
TZOFFSETFROM:-0400
TZOFFSETTO:-0500
TZNAME:EST
DTSTART:20291104T060000
END:STANDARD
END:VTIMEZONE
BEGIN:VEVENT
DTSTART;TZID=America/New_York:20280830T100000
DTEND;TZID=America/New_York:20280830T120000
DTSTAMP:20260421T210833
CREATED:20260109T150259Z
LAST-MODIFIED:20260407T183816Z
UID:10000663-1851242400-1851249600@mylac.org
SUMMARY:Professional Resume Workshop
DESCRIPTION:Bring your work history and learn how to reframe it as your strengths.  \nRegister Here:
URL:https://mylac.org/event/professional-resume-workshop/2028-08-30/
ATTACH;FMTTYPE=image/png:https://mylac.org/wp-content/uploads/2026/01/7.png
END:VEVENT
BEGIN:VEVENT
DTSTART;TZID=America/New_York:20280905T130000
DTEND;TZID=America/New_York:20280905T140000
DTSTAMP:20260421T210833
CREATED:20260109T145103Z
LAST-MODIFIED:20260407T203735Z
UID:10000402-1851771600-1851775200@mylac.org
SUMMARY:Workforce Workshop
DESCRIPTION:Discover your rights and responsibilities as a worker and explore new employment opportunities. \n 
URL:https://mylac.org/event/workforce-workshop-2/2028-09-05/
ATTACH;FMTTYPE=image/png:https://mylac.org/wp-content/uploads/2026/01/5.png
END:VEVENT
BEGIN:VEVENT
DTSTART;TZID=America/New_York:20280906T100000
DTEND;TZID=America/New_York:20280906T120000
DTSTAMP:20260421T210833
CREATED:20260109T150259Z
LAST-MODIFIED:20260407T183816Z
UID:10000664-1851847200-1851854400@mylac.org
SUMMARY:Professional Resume Workshop
DESCRIPTION:Bring your work history and learn how to reframe it as your strengths.  \nRegister Here:
URL:https://mylac.org/event/professional-resume-workshop/2028-09-06/
ATTACH;FMTTYPE=image/png:https://mylac.org/wp-content/uploads/2026/01/7.png
END:VEVENT
BEGIN:VEVENT
DTSTART;TZID=America/New_York:20280912T130000
DTEND;TZID=America/New_York:20280912T140000
DTSTAMP:20260421T210833
CREATED:20260109T145103Z
LAST-MODIFIED:20260407T203735Z
UID:10000403-1852376400-1852380000@mylac.org
SUMMARY:Workforce Workshop
DESCRIPTION:Discover your rights and responsibilities as a worker and explore new employment opportunities. \n 
URL:https://mylac.org/event/workforce-workshop-2/2028-09-12/
ATTACH;FMTTYPE=image/png:https://mylac.org/wp-content/uploads/2026/01/5.png
END:VEVENT
BEGIN:VEVENT
DTSTART;TZID=America/New_York:20280913T100000
DTEND;TZID=America/New_York:20280913T120000
DTSTAMP:20260421T210833
CREATED:20260109T150259Z
LAST-MODIFIED:20260407T183816Z
UID:10000665-1852452000-1852459200@mylac.org
SUMMARY:Professional Resume Workshop
DESCRIPTION:Bring your work history and learn how to reframe it as your strengths.  \nRegister Here:
URL:https://mylac.org/event/professional-resume-workshop/2028-09-13/
ATTACH;FMTTYPE=image/png:https://mylac.org/wp-content/uploads/2026/01/7.png
END:VEVENT
BEGIN:VEVENT
DTSTART;TZID=America/New_York:20280919T130000
DTEND;TZID=America/New_York:20280919T140000
DTSTAMP:20260421T210833
CREATED:20260109T145103Z
LAST-MODIFIED:20260407T203735Z
UID:10000404-1852981200-1852984800@mylac.org
SUMMARY:Workforce Workshop
DESCRIPTION:Discover your rights and responsibilities as a worker and explore new employment opportunities. \n 
URL:https://mylac.org/event/workforce-workshop-2/2028-09-19/
ATTACH;FMTTYPE=image/png:https://mylac.org/wp-content/uploads/2026/01/5.png
END:VEVENT
BEGIN:VEVENT
DTSTART;TZID=America/New_York:20280920T100000
DTEND;TZID=America/New_York:20280920T120000
DTSTAMP:20260421T210833
CREATED:20260109T150259Z
LAST-MODIFIED:20260407T183816Z
UID:10000666-1853056800-1853064000@mylac.org
SUMMARY:Professional Resume Workshop
DESCRIPTION:Bring your work history and learn how to reframe it as your strengths.  \nRegister Here:
URL:https://mylac.org/event/professional-resume-workshop/2028-09-20/
ATTACH;FMTTYPE=image/png:https://mylac.org/wp-content/uploads/2026/01/7.png
END:VEVENT
BEGIN:VEVENT
DTSTART;TZID=America/New_York:20280926T130000
DTEND;TZID=America/New_York:20280926T140000
DTSTAMP:20260421T210833
CREATED:20260109T145103Z
LAST-MODIFIED:20260407T203735Z
UID:10000405-1853586000-1853589600@mylac.org
SUMMARY:Workforce Workshop
DESCRIPTION:Discover your rights and responsibilities as a worker and explore new employment opportunities. \n 
URL:https://mylac.org/event/workforce-workshop-2/2028-09-26/
ATTACH;FMTTYPE=image/png:https://mylac.org/wp-content/uploads/2026/01/5.png
END:VEVENT
BEGIN:VEVENT
DTSTART;TZID=America/New_York:20280927T100000
DTEND;TZID=America/New_York:20280927T120000
DTSTAMP:20260421T210833
CREATED:20260109T150259Z
LAST-MODIFIED:20260407T183816Z
UID:10000667-1853661600-1853668800@mylac.org
SUMMARY:Professional Resume Workshop
DESCRIPTION:Bring your work history and learn how to reframe it as your strengths.  \nRegister Here:
URL:https://mylac.org/event/professional-resume-workshop/2028-09-27/
ATTACH;FMTTYPE=image/png:https://mylac.org/wp-content/uploads/2026/01/7.png
END:VEVENT
BEGIN:VEVENT
DTSTART;TZID=America/New_York:20281003T130000
DTEND;TZID=America/New_York:20281003T140000
DTSTAMP:20260421T210833
CREATED:20260109T145103Z
LAST-MODIFIED:20260407T203735Z
UID:10000406-1854190800-1854194400@mylac.org
SUMMARY:Workforce Workshop
DESCRIPTION:Discover your rights and responsibilities as a worker and explore new employment opportunities. \n 
URL:https://mylac.org/event/workforce-workshop-2/2028-10-03/
ATTACH;FMTTYPE=image/png:https://mylac.org/wp-content/uploads/2026/01/5.png
END:VEVENT
BEGIN:VEVENT
DTSTART;TZID=America/New_York:20281004T100000
DTEND;TZID=America/New_York:20281004T120000
DTSTAMP:20260421T210833
CREATED:20260109T150259Z
LAST-MODIFIED:20260407T183816Z
UID:10000668-1854266400-1854273600@mylac.org
SUMMARY:Professional Resume Workshop
DESCRIPTION:Bring your work history and learn how to reframe it as your strengths.  \nRegister Here:
URL:https://mylac.org/event/professional-resume-workshop/2028-10-04/
ATTACH;FMTTYPE=image/png:https://mylac.org/wp-content/uploads/2026/01/7.png
END:VEVENT
BEGIN:VEVENT
DTSTART;TZID=America/New_York:20281010T130000
DTEND;TZID=America/New_York:20281010T140000
DTSTAMP:20260421T210833
CREATED:20260109T145103Z
LAST-MODIFIED:20260407T203735Z
UID:10000407-1854795600-1854799200@mylac.org
SUMMARY:Workforce Workshop
DESCRIPTION:Discover your rights and responsibilities as a worker and explore new employment opportunities. \n 
URL:https://mylac.org/event/workforce-workshop-2/2028-10-10/
ATTACH;FMTTYPE=image/png:https://mylac.org/wp-content/uploads/2026/01/5.png
END:VEVENT
BEGIN:VEVENT
DTSTART;TZID=America/New_York:20281011T100000
DTEND;TZID=America/New_York:20281011T120000
DTSTAMP:20260421T210833
CREATED:20260109T150259Z
LAST-MODIFIED:20260407T183816Z
UID:10000669-1854871200-1854878400@mylac.org
SUMMARY:Professional Resume Workshop
DESCRIPTION:Bring your work history and learn how to reframe it as your strengths.  \nRegister Here:
URL:https://mylac.org/event/professional-resume-workshop/2028-10-11/
ATTACH;FMTTYPE=image/png:https://mylac.org/wp-content/uploads/2026/01/7.png
END:VEVENT
BEGIN:VEVENT
DTSTART;TZID=America/New_York:20281017T130000
DTEND;TZID=America/New_York:20281017T140000
DTSTAMP:20260421T210833
CREATED:20260109T145103Z
LAST-MODIFIED:20260407T203735Z
UID:10000408-1855400400-1855404000@mylac.org
SUMMARY:Workforce Workshop
DESCRIPTION:Discover your rights and responsibilities as a worker and explore new employment opportunities. \n 
URL:https://mylac.org/event/workforce-workshop-2/2028-10-17/
ATTACH;FMTTYPE=image/png:https://mylac.org/wp-content/uploads/2026/01/5.png
END:VEVENT
BEGIN:VEVENT
DTSTART;TZID=America/New_York:20281018T100000
DTEND;TZID=America/New_York:20281018T120000
DTSTAMP:20260421T210833
CREATED:20260109T150259Z
LAST-MODIFIED:20260407T183816Z
UID:10000670-1855476000-1855483200@mylac.org
SUMMARY:Professional Resume Workshop
DESCRIPTION:Bring your work history and learn how to reframe it as your strengths.  \nRegister Here:
URL:https://mylac.org/event/professional-resume-workshop/2028-10-18/
ATTACH;FMTTYPE=image/png:https://mylac.org/wp-content/uploads/2026/01/7.png
END:VEVENT
BEGIN:VEVENT
DTSTART;TZID=America/New_York:20281024T130000
DTEND;TZID=America/New_York:20281024T140000
DTSTAMP:20260421T210833
CREATED:20260109T145103Z
LAST-MODIFIED:20260407T203735Z
UID:10000409-1856005200-1856008800@mylac.org
SUMMARY:Workforce Workshop
DESCRIPTION:Discover your rights and responsibilities as a worker and explore new employment opportunities. \n 
URL:https://mylac.org/event/workforce-workshop-2/2028-10-24/
ATTACH;FMTTYPE=image/png:https://mylac.org/wp-content/uploads/2026/01/5.png
END:VEVENT
BEGIN:VEVENT
DTSTART;TZID=America/New_York:20281025T100000
DTEND;TZID=America/New_York:20281025T120000
DTSTAMP:20260421T210833
CREATED:20260109T150259Z
LAST-MODIFIED:20260407T183816Z
UID:10000671-1856080800-1856088000@mylac.org
SUMMARY:Professional Resume Workshop
DESCRIPTION:Bring your work history and learn how to reframe it as your strengths.  \nRegister Here:
URL:https://mylac.org/event/professional-resume-workshop/2028-10-25/
ATTACH;FMTTYPE=image/png:https://mylac.org/wp-content/uploads/2026/01/7.png
END:VEVENT
BEGIN:VEVENT
DTSTART;TZID=America/New_York:20281031T130000
DTEND;TZID=America/New_York:20281031T140000
DTSTAMP:20260421T210833
CREATED:20260109T145103Z
LAST-MODIFIED:20260407T203735Z
UID:10000410-1856610000-1856613600@mylac.org
SUMMARY:Workforce Workshop
DESCRIPTION:Discover your rights and responsibilities as a worker and explore new employment opportunities. \n 
URL:https://mylac.org/event/workforce-workshop-2/2028-10-31/
ATTACH;FMTTYPE=image/png:https://mylac.org/wp-content/uploads/2026/01/5.png
END:VEVENT
BEGIN:VEVENT
DTSTART;TZID=America/New_York:20281101T100000
DTEND;TZID=America/New_York:20281101T120000
DTSTAMP:20260421T210833
CREATED:20260109T150259Z
LAST-MODIFIED:20260407T183816Z
UID:10000672-1856685600-1856692800@mylac.org
SUMMARY:Professional Resume Workshop
DESCRIPTION:Bring your work history and learn how to reframe it as your strengths.  \nRegister Here:
URL:https://mylac.org/event/professional-resume-workshop/2028-11-01/
ATTACH;FMTTYPE=image/png:https://mylac.org/wp-content/uploads/2026/01/7.png
END:VEVENT
BEGIN:VEVENT
DTSTART;TZID=America/New_York:20281107T130000
DTEND;TZID=America/New_York:20281107T140000
DTSTAMP:20260421T210833
CREATED:20260109T145103Z
LAST-MODIFIED:20260407T203735Z
UID:10000411-1857214800-1857218400@mylac.org
SUMMARY:Workforce Workshop
DESCRIPTION:Discover your rights and responsibilities as a worker and explore new employment opportunities. \n 
URL:https://mylac.org/event/workforce-workshop-2/2028-11-07/
ATTACH;FMTTYPE=image/png:https://mylac.org/wp-content/uploads/2026/01/5.png
END:VEVENT
BEGIN:VEVENT
DTSTART;TZID=America/New_York:20281108T100000
DTEND;TZID=America/New_York:20281108T120000
DTSTAMP:20260421T210833
CREATED:20260109T150259Z
LAST-MODIFIED:20260407T183816Z
UID:10000673-1857290400-1857297600@mylac.org
SUMMARY:Professional Resume Workshop
DESCRIPTION:Bring your work history and learn how to reframe it as your strengths.  \nRegister Here:
URL:https://mylac.org/event/professional-resume-workshop/2028-11-08/
ATTACH;FMTTYPE=image/png:https://mylac.org/wp-content/uploads/2026/01/7.png
END:VEVENT
BEGIN:VEVENT
DTSTART;TZID=America/New_York:20281114T130000
DTEND;TZID=America/New_York:20281114T140000
DTSTAMP:20260421T210833
CREATED:20260109T145103Z
LAST-MODIFIED:20260407T203735Z
UID:10000412-1857819600-1857823200@mylac.org
SUMMARY:Workforce Workshop
DESCRIPTION:Discover your rights and responsibilities as a worker and explore new employment opportunities. \n 
URL:https://mylac.org/event/workforce-workshop-2/2028-11-14/
ATTACH;FMTTYPE=image/png:https://mylac.org/wp-content/uploads/2026/01/5.png
END:VEVENT
BEGIN:VEVENT
DTSTART;TZID=America/New_York:20281115T100000
DTEND;TZID=America/New_York:20281115T120000
DTSTAMP:20260421T210833
CREATED:20260109T150259Z
LAST-MODIFIED:20260407T183816Z
UID:10000674-1857895200-1857902400@mylac.org
SUMMARY:Professional Resume Workshop
DESCRIPTION:Bring your work history and learn how to reframe it as your strengths.  \nRegister Here:
URL:https://mylac.org/event/professional-resume-workshop/2028-11-15/
ATTACH;FMTTYPE=image/png:https://mylac.org/wp-content/uploads/2026/01/7.png
END:VEVENT
BEGIN:VEVENT
DTSTART;TZID=America/New_York:20281121T130000
DTEND;TZID=America/New_York:20281121T140000
DTSTAMP:20260421T210833
CREATED:20260109T145103Z
LAST-MODIFIED:20260407T203735Z
UID:10000413-1858424400-1858428000@mylac.org
SUMMARY:Workforce Workshop
DESCRIPTION:Discover your rights and responsibilities as a worker and explore new employment opportunities. \n 
URL:https://mylac.org/event/workforce-workshop-2/2028-11-21/
ATTACH;FMTTYPE=image/png:https://mylac.org/wp-content/uploads/2026/01/5.png
END:VEVENT
BEGIN:VEVENT
DTSTART;TZID=America/New_York:20281122T100000
DTEND;TZID=America/New_York:20281122T120000
DTSTAMP:20260421T210833
CREATED:20260109T150259Z
LAST-MODIFIED:20260407T183816Z
UID:10000675-1858500000-1858507200@mylac.org
SUMMARY:Professional Resume Workshop
DESCRIPTION:Bring your work history and learn how to reframe it as your strengths.  \nRegister Here:
URL:https://mylac.org/event/professional-resume-workshop/2028-11-22/
ATTACH;FMTTYPE=image/png:https://mylac.org/wp-content/uploads/2026/01/7.png
END:VEVENT
BEGIN:VEVENT
DTSTART;TZID=America/New_York:20281128T130000
DTEND;TZID=America/New_York:20281128T140000
DTSTAMP:20260421T210833
CREATED:20260109T145103Z
LAST-MODIFIED:20260407T203735Z
UID:10000414-1859029200-1859032800@mylac.org
SUMMARY:Workforce Workshop
DESCRIPTION:Discover your rights and responsibilities as a worker and explore new employment opportunities. \n 
URL:https://mylac.org/event/workforce-workshop-2/2028-11-28/
ATTACH;FMTTYPE=image/png:https://mylac.org/wp-content/uploads/2026/01/5.png
END:VEVENT
BEGIN:VEVENT
DTSTART;TZID=America/New_York:20281129T100000
DTEND;TZID=America/New_York:20281129T120000
DTSTAMP:20260421T210833
CREATED:20260109T150259Z
LAST-MODIFIED:20260407T183816Z
UID:10000676-1859104800-1859112000@mylac.org
SUMMARY:Professional Resume Workshop
DESCRIPTION:Bring your work history and learn how to reframe it as your strengths.  \nRegister Here:
URL:https://mylac.org/event/professional-resume-workshop/2028-11-29/
ATTACH;FMTTYPE=image/png:https://mylac.org/wp-content/uploads/2026/01/7.png
END:VEVENT
BEGIN:VEVENT
DTSTART;TZID=America/New_York:20281205T130000
DTEND;TZID=America/New_York:20281205T140000
DTSTAMP:20260421T210833
CREATED:20260109T145103Z
LAST-MODIFIED:20260407T203735Z
UID:10000415-1859634000-1859637600@mylac.org
SUMMARY:Workforce Workshop
DESCRIPTION:Discover your rights and responsibilities as a worker and explore new employment opportunities. \n 
URL:https://mylac.org/event/workforce-workshop-2/2028-12-05/
ATTACH;FMTTYPE=image/png:https://mylac.org/wp-content/uploads/2026/01/5.png
END:VEVENT
BEGIN:VEVENT
DTSTART;TZID=America/New_York:20281206T100000
DTEND;TZID=America/New_York:20281206T120000
DTSTAMP:20260421T210833
CREATED:20260109T150259Z
LAST-MODIFIED:20260407T183816Z
UID:10000677-1859709600-1859716800@mylac.org
SUMMARY:Professional Resume Workshop
DESCRIPTION:Bring your work history and learn how to reframe it as your strengths.  \nRegister Here:
URL:https://mylac.org/event/professional-resume-workshop/2028-12-06/
ATTACH;FMTTYPE=image/png:https://mylac.org/wp-content/uploads/2026/01/7.png
END:VEVENT
BEGIN:VEVENT
DTSTART;TZID=America/New_York:20281212T130000
DTEND;TZID=America/New_York:20281212T140000
DTSTAMP:20260421T210833
CREATED:20260109T145103Z
LAST-MODIFIED:20260407T203735Z
UID:10000416-1860238800-1860242400@mylac.org
SUMMARY:Workforce Workshop
DESCRIPTION:Discover your rights and responsibilities as a worker and explore new employment opportunities. \n 
URL:https://mylac.org/event/workforce-workshop-2/2028-12-12/
ATTACH;FMTTYPE=image/png:https://mylac.org/wp-content/uploads/2026/01/5.png
END:VEVENT
END:VCALENDAR