BEGIN:VCALENDAR
VERSION:2.0
PRODID:-//Latin American Coalition - ECPv6.15.20//NONSGML v1.0//EN
CALSCALE:GREGORIAN
METHOD:PUBLISH
X-WR-CALNAME:Latin American Coalition
X-ORIGINAL-URL:https://mylac.org
X-WR-CALDESC:Events for Latin American Coalition
REFRESH-INTERVAL;VALUE=DURATION:PT1H
X-Robots-Tag:noindex
X-PUBLISHED-TTL:PT1H
BEGIN:VTIMEZONE
TZID:America/New_York
BEGIN:DAYLIGHT
TZOFFSETFROM:-0500
TZOFFSETTO:-0400
TZNAME:EDT
DTSTART:20270314T070000
END:DAYLIGHT
BEGIN:STANDARD
TZOFFSETFROM:-0400
TZOFFSETTO:-0500
TZNAME:EST
DTSTART:20271107T060000
END:STANDARD
BEGIN:DAYLIGHT
TZOFFSETFROM:-0500
TZOFFSETTO:-0400
TZNAME:EDT
DTSTART:20280312T070000
END:DAYLIGHT
BEGIN:STANDARD
TZOFFSETFROM:-0400
TZOFFSETTO:-0500
TZNAME:EST
DTSTART:20281105T060000
END:STANDARD
BEGIN:DAYLIGHT
TZOFFSETFROM:-0500
TZOFFSETTO:-0400
TZNAME:EDT
DTSTART:20290311T070000
END:DAYLIGHT
BEGIN:STANDARD
TZOFFSETFROM:-0400
TZOFFSETTO:-0500
TZNAME:EST
DTSTART:20291104T060000
END:STANDARD
BEGIN:DAYLIGHT
TZOFFSETFROM:-0500
TZOFFSETTO:-0400
TZNAME:EDT
DTSTART:20300310T070000
END:DAYLIGHT
BEGIN:STANDARD
TZOFFSETFROM:-0400
TZOFFSETTO:-0500
TZNAME:EST
DTSTART:20301103T060000
END:STANDARD
END:VTIMEZONE
BEGIN:VEVENT
DTSTART;TZID=America/New_York:20281122T100000
DTEND;TZID=America/New_York:20281122T120000
DTSTAMP:20260421T114435
CREATED:20260109T150259Z
LAST-MODIFIED:20260407T183816Z
UID:10000675-1858500000-1858507200@mylac.org
SUMMARY:Professional Resume Workshop
DESCRIPTION:Bring your work history and learn how to reframe it as your strengths.  \nRegister Here:
URL:https://mylac.org/event/professional-resume-workshop/2028-11-22/
ATTACH;FMTTYPE=image/png:https://mylac.org/wp-content/uploads/2026/01/7.png
END:VEVENT
BEGIN:VEVENT
DTSTART;TZID=America/New_York:20281128T130000
DTEND;TZID=America/New_York:20281128T140000
DTSTAMP:20260421T114435
CREATED:20260109T145103Z
LAST-MODIFIED:20260407T203735Z
UID:10000414-1859029200-1859032800@mylac.org
SUMMARY:Workforce Workshop
DESCRIPTION:Discover your rights and responsibilities as a worker and explore new employment opportunities. \n 
URL:https://mylac.org/event/workforce-workshop-2/2028-11-28/
ATTACH;FMTTYPE=image/png:https://mylac.org/wp-content/uploads/2026/01/5.png
END:VEVENT
BEGIN:VEVENT
DTSTART;TZID=America/New_York:20281129T100000
DTEND;TZID=America/New_York:20281129T120000
DTSTAMP:20260421T114435
CREATED:20260109T150259Z
LAST-MODIFIED:20260407T183816Z
UID:10000676-1859104800-1859112000@mylac.org
SUMMARY:Professional Resume Workshop
DESCRIPTION:Bring your work history and learn how to reframe it as your strengths.  \nRegister Here:
URL:https://mylac.org/event/professional-resume-workshop/2028-11-29/
ATTACH;FMTTYPE=image/png:https://mylac.org/wp-content/uploads/2026/01/7.png
END:VEVENT
BEGIN:VEVENT
DTSTART;TZID=America/New_York:20281205T130000
DTEND;TZID=America/New_York:20281205T140000
DTSTAMP:20260421T114435
CREATED:20260109T145103Z
LAST-MODIFIED:20260407T203735Z
UID:10000415-1859634000-1859637600@mylac.org
SUMMARY:Workforce Workshop
DESCRIPTION:Discover your rights and responsibilities as a worker and explore new employment opportunities. \n 
URL:https://mylac.org/event/workforce-workshop-2/2028-12-05/
ATTACH;FMTTYPE=image/png:https://mylac.org/wp-content/uploads/2026/01/5.png
END:VEVENT
BEGIN:VEVENT
DTSTART;TZID=America/New_York:20281206T100000
DTEND;TZID=America/New_York:20281206T120000
DTSTAMP:20260421T114435
CREATED:20260109T150259Z
LAST-MODIFIED:20260407T183816Z
UID:10000677-1859709600-1859716800@mylac.org
SUMMARY:Professional Resume Workshop
DESCRIPTION:Bring your work history and learn how to reframe it as your strengths.  \nRegister Here:
URL:https://mylac.org/event/professional-resume-workshop/2028-12-06/
ATTACH;FMTTYPE=image/png:https://mylac.org/wp-content/uploads/2026/01/7.png
END:VEVENT
BEGIN:VEVENT
DTSTART;TZID=America/New_York:20281212T130000
DTEND;TZID=America/New_York:20281212T140000
DTSTAMP:20260421T114435
CREATED:20260109T145103Z
LAST-MODIFIED:20260407T203735Z
UID:10000416-1860238800-1860242400@mylac.org
SUMMARY:Workforce Workshop
DESCRIPTION:Discover your rights and responsibilities as a worker and explore new employment opportunities. \n 
URL:https://mylac.org/event/workforce-workshop-2/2028-12-12/
ATTACH;FMTTYPE=image/png:https://mylac.org/wp-content/uploads/2026/01/5.png
END:VEVENT
BEGIN:VEVENT
DTSTART;TZID=America/New_York:20281213T100000
DTEND;TZID=America/New_York:20281213T120000
DTSTAMP:20260421T114435
CREATED:20260109T150259Z
LAST-MODIFIED:20260407T183816Z
UID:10000678-1860314400-1860321600@mylac.org
SUMMARY:Professional Resume Workshop
DESCRIPTION:Bring your work history and learn how to reframe it as your strengths.  \nRegister Here:
URL:https://mylac.org/event/professional-resume-workshop/2028-12-13/
ATTACH;FMTTYPE=image/png:https://mylac.org/wp-content/uploads/2026/01/7.png
END:VEVENT
BEGIN:VEVENT
DTSTART;TZID=America/New_York:20281219T130000
DTEND;TZID=America/New_York:20281219T140000
DTSTAMP:20260421T114435
CREATED:20260109T145103Z
LAST-MODIFIED:20260407T203735Z
UID:10000417-1860843600-1860847200@mylac.org
SUMMARY:Workforce Workshop
DESCRIPTION:Discover your rights and responsibilities as a worker and explore new employment opportunities. \n 
URL:https://mylac.org/event/workforce-workshop-2/2028-12-19/
ATTACH;FMTTYPE=image/png:https://mylac.org/wp-content/uploads/2026/01/5.png
END:VEVENT
BEGIN:VEVENT
DTSTART;TZID=America/New_York:20281220T100000
DTEND;TZID=America/New_York:20281220T120000
DTSTAMP:20260421T114435
CREATED:20260109T150259Z
LAST-MODIFIED:20260407T183816Z
UID:10000679-1860919200-1860926400@mylac.org
SUMMARY:Professional Resume Workshop
DESCRIPTION:Bring your work history and learn how to reframe it as your strengths.  \nRegister Here:
URL:https://mylac.org/event/professional-resume-workshop/2028-12-20/
ATTACH;FMTTYPE=image/png:https://mylac.org/wp-content/uploads/2026/01/7.png
END:VEVENT
BEGIN:VEVENT
DTSTART;TZID=America/New_York:20281226T130000
DTEND;TZID=America/New_York:20281226T140000
DTSTAMP:20260421T114435
CREATED:20260109T145103Z
LAST-MODIFIED:20260407T203735Z
UID:10000418-1861448400-1861452000@mylac.org
SUMMARY:Workforce Workshop
DESCRIPTION:Discover your rights and responsibilities as a worker and explore new employment opportunities. \n 
URL:https://mylac.org/event/workforce-workshop-2/2028-12-26/
ATTACH;FMTTYPE=image/png:https://mylac.org/wp-content/uploads/2026/01/5.png
END:VEVENT
BEGIN:VEVENT
DTSTART;TZID=America/New_York:20281227T100000
DTEND;TZID=America/New_York:20281227T120000
DTSTAMP:20260421T114435
CREATED:20260109T150259Z
LAST-MODIFIED:20260407T183816Z
UID:10000680-1861524000-1861531200@mylac.org
SUMMARY:Professional Resume Workshop
DESCRIPTION:Bring your work history and learn how to reframe it as your strengths.  \nRegister Here:
URL:https://mylac.org/event/professional-resume-workshop/2028-12-27/
ATTACH;FMTTYPE=image/png:https://mylac.org/wp-content/uploads/2026/01/7.png
END:VEVENT
BEGIN:VEVENT
DTSTART;TZID=America/New_York:20290102T130000
DTEND;TZID=America/New_York:20290102T140000
DTSTAMP:20260421T114435
CREATED:20260109T145103Z
LAST-MODIFIED:20260407T203735Z
UID:10000419-1862053200-1862056800@mylac.org
SUMMARY:Workforce Workshop
DESCRIPTION:Discover your rights and responsibilities as a worker and explore new employment opportunities. \n 
URL:https://mylac.org/event/workforce-workshop-2/2029-01-02/
ATTACH;FMTTYPE=image/png:https://mylac.org/wp-content/uploads/2026/01/5.png
END:VEVENT
BEGIN:VEVENT
DTSTART;TZID=America/New_York:20290103T100000
DTEND;TZID=America/New_York:20290103T120000
DTSTAMP:20260421T114435
CREATED:20260109T150259Z
LAST-MODIFIED:20260407T183816Z
UID:10000681-1862128800-1862136000@mylac.org
SUMMARY:Professional Resume Workshop
DESCRIPTION:Bring your work history and learn how to reframe it as your strengths.  \nRegister Here:
URL:https://mylac.org/event/professional-resume-workshop/2029-01-03/
ATTACH;FMTTYPE=image/png:https://mylac.org/wp-content/uploads/2026/01/7.png
END:VEVENT
BEGIN:VEVENT
DTSTART;TZID=America/New_York:20290109T130000
DTEND;TZID=America/New_York:20290109T140000
DTSTAMP:20260421T114435
CREATED:20260109T145103Z
LAST-MODIFIED:20260407T203735Z
UID:10000420-1862658000-1862661600@mylac.org
SUMMARY:Workforce Workshop
DESCRIPTION:Discover your rights and responsibilities as a worker and explore new employment opportunities. \n 
URL:https://mylac.org/event/workforce-workshop-2/2029-01-09/
ATTACH;FMTTYPE=image/png:https://mylac.org/wp-content/uploads/2026/01/5.png
END:VEVENT
BEGIN:VEVENT
DTSTART;TZID=America/New_York:20290110T100000
DTEND;TZID=America/New_York:20290110T120000
DTSTAMP:20260421T114435
CREATED:20260109T150259Z
LAST-MODIFIED:20260407T183816Z
UID:10000682-1862733600-1862740800@mylac.org
SUMMARY:Professional Resume Workshop
DESCRIPTION:Bring your work history and learn how to reframe it as your strengths.  \nRegister Here:
URL:https://mylac.org/event/professional-resume-workshop/2029-01-10/
ATTACH;FMTTYPE=image/png:https://mylac.org/wp-content/uploads/2026/01/7.png
END:VEVENT
BEGIN:VEVENT
DTSTART;TZID=America/New_York:20290116T130000
DTEND;TZID=America/New_York:20290116T140000
DTSTAMP:20260421T114435
CREATED:20260109T145103Z
LAST-MODIFIED:20260407T203735Z
UID:10000421-1863262800-1863266400@mylac.org
SUMMARY:Workforce Workshop
DESCRIPTION:Discover your rights and responsibilities as a worker and explore new employment opportunities. \n 
URL:https://mylac.org/event/workforce-workshop-2/2029-01-16/
ATTACH;FMTTYPE=image/png:https://mylac.org/wp-content/uploads/2026/01/5.png
END:VEVENT
BEGIN:VEVENT
DTSTART;TZID=America/New_York:20290117T100000
DTEND;TZID=America/New_York:20290117T120000
DTSTAMP:20260421T114435
CREATED:20260109T150259Z
LAST-MODIFIED:20260407T183816Z
UID:10000683-1863338400-1863345600@mylac.org
SUMMARY:Professional Resume Workshop
DESCRIPTION:Bring your work history and learn how to reframe it as your strengths.  \nRegister Here:
URL:https://mylac.org/event/professional-resume-workshop/2029-01-17/
ATTACH;FMTTYPE=image/png:https://mylac.org/wp-content/uploads/2026/01/7.png
END:VEVENT
BEGIN:VEVENT
DTSTART;TZID=America/New_York:20290123T130000
DTEND;TZID=America/New_York:20290123T140000
DTSTAMP:20260421T114435
CREATED:20260109T145103Z
LAST-MODIFIED:20260407T203735Z
UID:10000422-1863867600-1863871200@mylac.org
SUMMARY:Workforce Workshop
DESCRIPTION:Discover your rights and responsibilities as a worker and explore new employment opportunities. \n 
URL:https://mylac.org/event/workforce-workshop-2/2029-01-23/
ATTACH;FMTTYPE=image/png:https://mylac.org/wp-content/uploads/2026/01/5.png
END:VEVENT
BEGIN:VEVENT
DTSTART;TZID=America/New_York:20290124T100000
DTEND;TZID=America/New_York:20290124T120000
DTSTAMP:20260421T114435
CREATED:20260109T150259Z
LAST-MODIFIED:20260407T183816Z
UID:10000684-1863943200-1863950400@mylac.org
SUMMARY:Professional Resume Workshop
DESCRIPTION:Bring your work history and learn how to reframe it as your strengths.  \nRegister Here:
URL:https://mylac.org/event/professional-resume-workshop/2029-01-24/
ATTACH;FMTTYPE=image/png:https://mylac.org/wp-content/uploads/2026/01/7.png
END:VEVENT
BEGIN:VEVENT
DTSTART;TZID=America/New_York:20290130T130000
DTEND;TZID=America/New_York:20290130T140000
DTSTAMP:20260421T114435
CREATED:20260109T145103Z
LAST-MODIFIED:20260407T203735Z
UID:10000423-1864472400-1864476000@mylac.org
SUMMARY:Workforce Workshop
DESCRIPTION:Discover your rights and responsibilities as a worker and explore new employment opportunities. \n 
URL:https://mylac.org/event/workforce-workshop-2/2029-01-30/
ATTACH;FMTTYPE=image/png:https://mylac.org/wp-content/uploads/2026/01/5.png
END:VEVENT
BEGIN:VEVENT
DTSTART;TZID=America/New_York:20290131T100000
DTEND;TZID=America/New_York:20290131T120000
DTSTAMP:20260421T114435
CREATED:20260109T150259Z
LAST-MODIFIED:20260407T183816Z
UID:10000685-1864548000-1864555200@mylac.org
SUMMARY:Professional Resume Workshop
DESCRIPTION:Bring your work history and learn how to reframe it as your strengths.  \nRegister Here:
URL:https://mylac.org/event/professional-resume-workshop/2029-01-31/
ATTACH;FMTTYPE=image/png:https://mylac.org/wp-content/uploads/2026/01/7.png
END:VEVENT
BEGIN:VEVENT
DTSTART;TZID=America/New_York:20290206T130000
DTEND;TZID=America/New_York:20290206T140000
DTSTAMP:20260421T114435
CREATED:20260109T145103Z
LAST-MODIFIED:20260407T203735Z
UID:10000424-1865077200-1865080800@mylac.org
SUMMARY:Workforce Workshop
DESCRIPTION:Discover your rights and responsibilities as a worker and explore new employment opportunities. \n 
URL:https://mylac.org/event/workforce-workshop-2/2029-02-06/
ATTACH;FMTTYPE=image/png:https://mylac.org/wp-content/uploads/2026/01/5.png
END:VEVENT
BEGIN:VEVENT
DTSTART;TZID=America/New_York:20290207T100000
DTEND;TZID=America/New_York:20290207T120000
DTSTAMP:20260421T114435
CREATED:20260109T150259Z
LAST-MODIFIED:20260407T183816Z
UID:10000686-1865152800-1865160000@mylac.org
SUMMARY:Professional Resume Workshop
DESCRIPTION:Bring your work history and learn how to reframe it as your strengths.  \nRegister Here:
URL:https://mylac.org/event/professional-resume-workshop/2029-02-07/
ATTACH;FMTTYPE=image/png:https://mylac.org/wp-content/uploads/2026/01/7.png
END:VEVENT
BEGIN:VEVENT
DTSTART;TZID=America/New_York:20290213T130000
DTEND;TZID=America/New_York:20290213T140000
DTSTAMP:20260421T114435
CREATED:20260109T145103Z
LAST-MODIFIED:20260407T203735Z
UID:10000425-1865682000-1865685600@mylac.org
SUMMARY:Workforce Workshop
DESCRIPTION:Discover your rights and responsibilities as a worker and explore new employment opportunities. \n 
URL:https://mylac.org/event/workforce-workshop-2/2029-02-13/
ATTACH;FMTTYPE=image/png:https://mylac.org/wp-content/uploads/2026/01/5.png
END:VEVENT
BEGIN:VEVENT
DTSTART;TZID=America/New_York:20290214T100000
DTEND;TZID=America/New_York:20290214T120000
DTSTAMP:20260421T114435
CREATED:20260109T150259Z
LAST-MODIFIED:20260407T183816Z
UID:10000687-1865757600-1865764800@mylac.org
SUMMARY:Professional Resume Workshop
DESCRIPTION:Bring your work history and learn how to reframe it as your strengths.  \nRegister Here:
URL:https://mylac.org/event/professional-resume-workshop/2029-02-14/
ATTACH;FMTTYPE=image/png:https://mylac.org/wp-content/uploads/2026/01/7.png
END:VEVENT
BEGIN:VEVENT
DTSTART;TZID=America/New_York:20290220T130000
DTEND;TZID=America/New_York:20290220T140000
DTSTAMP:20260421T114435
CREATED:20260109T145103Z
LAST-MODIFIED:20260407T203735Z
UID:10000426-1866286800-1866290400@mylac.org
SUMMARY:Workforce Workshop
DESCRIPTION:Discover your rights and responsibilities as a worker and explore new employment opportunities. \n 
URL:https://mylac.org/event/workforce-workshop-2/2029-02-20/
ATTACH;FMTTYPE=image/png:https://mylac.org/wp-content/uploads/2026/01/5.png
END:VEVENT
BEGIN:VEVENT
DTSTART;TZID=America/New_York:20290221T100000
DTEND;TZID=America/New_York:20290221T120000
DTSTAMP:20260421T114436
CREATED:20260109T150259Z
LAST-MODIFIED:20260407T183816Z
UID:10000688-1866362400-1866369600@mylac.org
SUMMARY:Professional Resume Workshop
DESCRIPTION:Bring your work history and learn how to reframe it as your strengths.  \nRegister Here:
URL:https://mylac.org/event/professional-resume-workshop/2029-02-21/
ATTACH;FMTTYPE=image/png:https://mylac.org/wp-content/uploads/2026/01/7.png
END:VEVENT
BEGIN:VEVENT
DTSTART;TZID=America/New_York:20290227T130000
DTEND;TZID=America/New_York:20290227T140000
DTSTAMP:20260421T114436
CREATED:20260109T145103Z
LAST-MODIFIED:20260407T203735Z
UID:10000427-1866891600-1866895200@mylac.org
SUMMARY:Workforce Workshop
DESCRIPTION:Discover your rights and responsibilities as a worker and explore new employment opportunities. \n 
URL:https://mylac.org/event/workforce-workshop-2/2029-02-27/
ATTACH;FMTTYPE=image/png:https://mylac.org/wp-content/uploads/2026/01/5.png
END:VEVENT
BEGIN:VEVENT
DTSTART;TZID=America/New_York:20290228T100000
DTEND;TZID=America/New_York:20290228T120000
DTSTAMP:20260421T114436
CREATED:20260109T150259Z
LAST-MODIFIED:20260407T183816Z
UID:10000689-1866967200-1866974400@mylac.org
SUMMARY:Professional Resume Workshop
DESCRIPTION:Bring your work history and learn how to reframe it as your strengths.  \nRegister Here:
URL:https://mylac.org/event/professional-resume-workshop/2029-02-28/
ATTACH;FMTTYPE=image/png:https://mylac.org/wp-content/uploads/2026/01/7.png
END:VEVENT
BEGIN:VEVENT
DTSTART;TZID=America/New_York:20290306T130000
DTEND;TZID=America/New_York:20290306T140000
DTSTAMP:20260421T114436
CREATED:20260109T145103Z
LAST-MODIFIED:20260407T203735Z
UID:10000428-1867496400-1867500000@mylac.org
SUMMARY:Workforce Workshop
DESCRIPTION:Discover your rights and responsibilities as a worker and explore new employment opportunities. \n 
URL:https://mylac.org/event/workforce-workshop-2/2029-03-06/
ATTACH;FMTTYPE=image/png:https://mylac.org/wp-content/uploads/2026/01/5.png
END:VEVENT
END:VCALENDAR