BEGIN:VCALENDAR
VERSION:2.0
PRODID:-//Latin American Coalition - ECPv6.15.20//NONSGML v1.0//EN
CALSCALE:GREGORIAN
METHOD:PUBLISH
X-ORIGINAL-URL:https://mylac.org
X-WR-CALDESC:Events for Latin American Coalition
REFRESH-INTERVAL;VALUE=DURATION:PT1H
X-Robots-Tag:noindex
X-PUBLISHED-TTL:PT1H
BEGIN:VTIMEZONE
TZID:America/New_York
BEGIN:DAYLIGHT
TZOFFSETFROM:-0500
TZOFFSETTO:-0400
TZNAME:EDT
DTSTART:20280312T070000
END:DAYLIGHT
BEGIN:STANDARD
TZOFFSETFROM:-0400
TZOFFSETTO:-0500
TZNAME:EST
DTSTART:20281105T060000
END:STANDARD
BEGIN:DAYLIGHT
TZOFFSETFROM:-0500
TZOFFSETTO:-0400
TZNAME:EDT
DTSTART:20290311T070000
END:DAYLIGHT
BEGIN:STANDARD
TZOFFSETFROM:-0400
TZOFFSETTO:-0500
TZNAME:EST
DTSTART:20291104T060000
END:STANDARD
BEGIN:DAYLIGHT
TZOFFSETFROM:-0500
TZOFFSETTO:-0400
TZNAME:EDT
DTSTART:20300310T070000
END:DAYLIGHT
BEGIN:STANDARD
TZOFFSETFROM:-0400
TZOFFSETTO:-0500
TZNAME:EST
DTSTART:20301103T060000
END:STANDARD
END:VTIMEZONE
BEGIN:VEVENT
DTSTART;TZID=America/New_York:20290905T100000
DTEND;TZID=America/New_York:20290905T120000
DTSTAMP:20260421T191004
CREATED:20260109T150259Z
LAST-MODIFIED:20260407T183816Z
UID:10000716-1883296800-1883304000@mylac.org
SUMMARY:Professional Resume Workshop
DESCRIPTION:Bring your work history and learn how to reframe it as your strengths.  \nRegister Here:
URL:https://mylac.org/event/professional-resume-workshop/2029-09-05/
ATTACH;FMTTYPE=image/png:https://mylac.org/wp-content/uploads/2026/01/7.png
END:VEVENT
BEGIN:VEVENT
DTSTART;TZID=America/New_York:20290911T130000
DTEND;TZID=America/New_York:20290911T140000
DTSTAMP:20260421T191004
CREATED:20260109T145103Z
LAST-MODIFIED:20260407T203735Z
UID:10000455-1883826000-1883829600@mylac.org
SUMMARY:Workforce Workshop
DESCRIPTION:Discover your rights and responsibilities as a worker and explore new employment opportunities. \n 
URL:https://mylac.org/event/workforce-workshop-2/2029-09-11/
ATTACH;FMTTYPE=image/png:https://mylac.org/wp-content/uploads/2026/01/5.png
END:VEVENT
BEGIN:VEVENT
DTSTART;TZID=America/New_York:20290912T100000
DTEND;TZID=America/New_York:20290912T120000
DTSTAMP:20260421T191004
CREATED:20260109T150259Z
LAST-MODIFIED:20260407T183816Z
UID:10000717-1883901600-1883908800@mylac.org
SUMMARY:Professional Resume Workshop
DESCRIPTION:Bring your work history and learn how to reframe it as your strengths.  \nRegister Here:
URL:https://mylac.org/event/professional-resume-workshop/2029-09-12/
ATTACH;FMTTYPE=image/png:https://mylac.org/wp-content/uploads/2026/01/7.png
END:VEVENT
BEGIN:VEVENT
DTSTART;TZID=America/New_York:20290918T130000
DTEND;TZID=America/New_York:20290918T140000
DTSTAMP:20260421T191004
CREATED:20260109T145103Z
LAST-MODIFIED:20260407T203735Z
UID:10000456-1884430800-1884434400@mylac.org
SUMMARY:Workforce Workshop
DESCRIPTION:Discover your rights and responsibilities as a worker and explore new employment opportunities. \n 
URL:https://mylac.org/event/workforce-workshop-2/2029-09-18/
ATTACH;FMTTYPE=image/png:https://mylac.org/wp-content/uploads/2026/01/5.png
END:VEVENT
BEGIN:VEVENT
DTSTART;TZID=America/New_York:20290919T100000
DTEND;TZID=America/New_York:20290919T120000
DTSTAMP:20260421T191004
CREATED:20260109T150259Z
LAST-MODIFIED:20260407T183816Z
UID:10000718-1884506400-1884513600@mylac.org
SUMMARY:Professional Resume Workshop
DESCRIPTION:Bring your work history and learn how to reframe it as your strengths.  \nRegister Here:
URL:https://mylac.org/event/professional-resume-workshop/2029-09-19/
ATTACH;FMTTYPE=image/png:https://mylac.org/wp-content/uploads/2026/01/7.png
END:VEVENT
BEGIN:VEVENT
DTSTART;TZID=America/New_York:20290925T130000
DTEND;TZID=America/New_York:20290925T140000
DTSTAMP:20260421T191004
CREATED:20260109T145103Z
LAST-MODIFIED:20260407T203735Z
UID:10000457-1885035600-1885039200@mylac.org
SUMMARY:Workforce Workshop
DESCRIPTION:Discover your rights and responsibilities as a worker and explore new employment opportunities. \n 
URL:https://mylac.org/event/workforce-workshop-2/2029-09-25/
ATTACH;FMTTYPE=image/png:https://mylac.org/wp-content/uploads/2026/01/5.png
END:VEVENT
BEGIN:VEVENT
DTSTART;TZID=America/New_York:20290926T100000
DTEND;TZID=America/New_York:20290926T120000
DTSTAMP:20260421T191004
CREATED:20260109T150259Z
LAST-MODIFIED:20260407T183816Z
UID:10000719-1885111200-1885118400@mylac.org
SUMMARY:Professional Resume Workshop
DESCRIPTION:Bring your work history and learn how to reframe it as your strengths.  \nRegister Here:
URL:https://mylac.org/event/professional-resume-workshop/2029-09-26/
ATTACH;FMTTYPE=image/png:https://mylac.org/wp-content/uploads/2026/01/7.png
END:VEVENT
BEGIN:VEVENT
DTSTART;TZID=America/New_York:20291002T130000
DTEND;TZID=America/New_York:20291002T140000
DTSTAMP:20260421T191004
CREATED:20260109T145103Z
LAST-MODIFIED:20260407T203735Z
UID:10000458-1885640400-1885644000@mylac.org
SUMMARY:Workforce Workshop
DESCRIPTION:Discover your rights and responsibilities as a worker and explore new employment opportunities. \n 
URL:https://mylac.org/event/workforce-workshop-2/2029-10-02/
ATTACH;FMTTYPE=image/png:https://mylac.org/wp-content/uploads/2026/01/5.png
END:VEVENT
BEGIN:VEVENT
DTSTART;TZID=America/New_York:20291003T100000
DTEND;TZID=America/New_York:20291003T120000
DTSTAMP:20260421T191004
CREATED:20260109T150259Z
LAST-MODIFIED:20260407T183816Z
UID:10000720-1885716000-1885723200@mylac.org
SUMMARY:Professional Resume Workshop
DESCRIPTION:Bring your work history and learn how to reframe it as your strengths.  \nRegister Here:
URL:https://mylac.org/event/professional-resume-workshop/2029-10-03/
ATTACH;FMTTYPE=image/png:https://mylac.org/wp-content/uploads/2026/01/7.png
END:VEVENT
BEGIN:VEVENT
DTSTART;TZID=America/New_York:20291009T130000
DTEND;TZID=America/New_York:20291009T140000
DTSTAMP:20260421T191004
CREATED:20260109T145103Z
LAST-MODIFIED:20260407T203735Z
UID:10000459-1886245200-1886248800@mylac.org
SUMMARY:Workforce Workshop
DESCRIPTION:Discover your rights and responsibilities as a worker and explore new employment opportunities. \n 
URL:https://mylac.org/event/workforce-workshop-2/2029-10-09/
ATTACH;FMTTYPE=image/png:https://mylac.org/wp-content/uploads/2026/01/5.png
END:VEVENT
BEGIN:VEVENT
DTSTART;TZID=America/New_York:20291010T100000
DTEND;TZID=America/New_York:20291010T120000
DTSTAMP:20260421T191005
CREATED:20260109T150259Z
LAST-MODIFIED:20260407T183816Z
UID:10000721-1886320800-1886328000@mylac.org
SUMMARY:Professional Resume Workshop
DESCRIPTION:Bring your work history and learn how to reframe it as your strengths.  \nRegister Here:
URL:https://mylac.org/event/professional-resume-workshop/2029-10-10/
ATTACH;FMTTYPE=image/png:https://mylac.org/wp-content/uploads/2026/01/7.png
END:VEVENT
BEGIN:VEVENT
DTSTART;TZID=America/New_York:20291016T130000
DTEND;TZID=America/New_York:20291016T140000
DTSTAMP:20260421T191005
CREATED:20260109T145103Z
LAST-MODIFIED:20260407T203735Z
UID:10000460-1886850000-1886853600@mylac.org
SUMMARY:Workforce Workshop
DESCRIPTION:Discover your rights and responsibilities as a worker and explore new employment opportunities. \n 
URL:https://mylac.org/event/workforce-workshop-2/2029-10-16/
ATTACH;FMTTYPE=image/png:https://mylac.org/wp-content/uploads/2026/01/5.png
END:VEVENT
BEGIN:VEVENT
DTSTART;TZID=America/New_York:20291017T100000
DTEND;TZID=America/New_York:20291017T120000
DTSTAMP:20260421T191005
CREATED:20260109T150259Z
LAST-MODIFIED:20260407T183816Z
UID:10000722-1886925600-1886932800@mylac.org
SUMMARY:Professional Resume Workshop
DESCRIPTION:Bring your work history and learn how to reframe it as your strengths.  \nRegister Here:
URL:https://mylac.org/event/professional-resume-workshop/2029-10-17/
ATTACH;FMTTYPE=image/png:https://mylac.org/wp-content/uploads/2026/01/7.png
END:VEVENT
BEGIN:VEVENT
DTSTART;TZID=America/New_York:20291023T130000
DTEND;TZID=America/New_York:20291023T140000
DTSTAMP:20260421T191005
CREATED:20260109T145103Z
LAST-MODIFIED:20260407T203735Z
UID:10000461-1887454800-1887458400@mylac.org
SUMMARY:Workforce Workshop
DESCRIPTION:Discover your rights and responsibilities as a worker and explore new employment opportunities. \n 
URL:https://mylac.org/event/workforce-workshop-2/2029-10-23/
ATTACH;FMTTYPE=image/png:https://mylac.org/wp-content/uploads/2026/01/5.png
END:VEVENT
BEGIN:VEVENT
DTSTART;TZID=America/New_York:20291024T100000
DTEND;TZID=America/New_York:20291024T120000
DTSTAMP:20260421T191005
CREATED:20260109T150259Z
LAST-MODIFIED:20260407T183816Z
UID:10000723-1887530400-1887537600@mylac.org
SUMMARY:Professional Resume Workshop
DESCRIPTION:Bring your work history and learn how to reframe it as your strengths.  \nRegister Here:
URL:https://mylac.org/event/professional-resume-workshop/2029-10-24/
ATTACH;FMTTYPE=image/png:https://mylac.org/wp-content/uploads/2026/01/7.png
END:VEVENT
BEGIN:VEVENT
DTSTART;TZID=America/New_York:20291030T130000
DTEND;TZID=America/New_York:20291030T140000
DTSTAMP:20260421T191005
CREATED:20260109T145103Z
LAST-MODIFIED:20260407T203735Z
UID:10000462-1888059600-1888063200@mylac.org
SUMMARY:Workforce Workshop
DESCRIPTION:Discover your rights and responsibilities as a worker and explore new employment opportunities. \n 
URL:https://mylac.org/event/workforce-workshop-2/2029-10-30/
ATTACH;FMTTYPE=image/png:https://mylac.org/wp-content/uploads/2026/01/5.png
END:VEVENT
BEGIN:VEVENT
DTSTART;TZID=America/New_York:20291031T100000
DTEND;TZID=America/New_York:20291031T120000
DTSTAMP:20260421T191005
CREATED:20260109T150259Z
LAST-MODIFIED:20260407T183816Z
UID:10000724-1888135200-1888142400@mylac.org
SUMMARY:Professional Resume Workshop
DESCRIPTION:Bring your work history and learn how to reframe it as your strengths.  \nRegister Here:
URL:https://mylac.org/event/professional-resume-workshop/2029-10-31/
ATTACH;FMTTYPE=image/png:https://mylac.org/wp-content/uploads/2026/01/7.png
END:VEVENT
BEGIN:VEVENT
DTSTART;TZID=America/New_York:20291106T130000
DTEND;TZID=America/New_York:20291106T140000
DTSTAMP:20260421T191005
CREATED:20260109T145103Z
LAST-MODIFIED:20260407T203735Z
UID:10000463-1888664400-1888668000@mylac.org
SUMMARY:Workforce Workshop
DESCRIPTION:Discover your rights and responsibilities as a worker and explore new employment opportunities. \n 
URL:https://mylac.org/event/workforce-workshop-2/2029-11-06/
ATTACH;FMTTYPE=image/png:https://mylac.org/wp-content/uploads/2026/01/5.png
END:VEVENT
BEGIN:VEVENT
DTSTART;TZID=America/New_York:20291107T100000
DTEND;TZID=America/New_York:20291107T120000
DTSTAMP:20260421T191005
CREATED:20260109T150259Z
LAST-MODIFIED:20260407T183816Z
UID:10000725-1888740000-1888747200@mylac.org
SUMMARY:Professional Resume Workshop
DESCRIPTION:Bring your work history and learn how to reframe it as your strengths.  \nRegister Here:
URL:https://mylac.org/event/professional-resume-workshop/2029-11-07/
ATTACH;FMTTYPE=image/png:https://mylac.org/wp-content/uploads/2026/01/7.png
END:VEVENT
BEGIN:VEVENT
DTSTART;TZID=America/New_York:20291113T130000
DTEND;TZID=America/New_York:20291113T140000
DTSTAMP:20260421T191005
CREATED:20260109T145103Z
LAST-MODIFIED:20260407T203735Z
UID:10000464-1889269200-1889272800@mylac.org
SUMMARY:Workforce Workshop
DESCRIPTION:Discover your rights and responsibilities as a worker and explore new employment opportunities. \n 
URL:https://mylac.org/event/workforce-workshop-2/2029-11-13/
ATTACH;FMTTYPE=image/png:https://mylac.org/wp-content/uploads/2026/01/5.png
END:VEVENT
BEGIN:VEVENT
DTSTART;TZID=America/New_York:20291114T100000
DTEND;TZID=America/New_York:20291114T120000
DTSTAMP:20260421T191005
CREATED:20260109T150259Z
LAST-MODIFIED:20260407T183816Z
UID:10000726-1889344800-1889352000@mylac.org
SUMMARY:Professional Resume Workshop
DESCRIPTION:Bring your work history and learn how to reframe it as your strengths.  \nRegister Here:
URL:https://mylac.org/event/professional-resume-workshop/2029-11-14/
ATTACH;FMTTYPE=image/png:https://mylac.org/wp-content/uploads/2026/01/7.png
END:VEVENT
BEGIN:VEVENT
DTSTART;TZID=America/New_York:20291120T130000
DTEND;TZID=America/New_York:20291120T140000
DTSTAMP:20260421T191005
CREATED:20260109T145103Z
LAST-MODIFIED:20260407T203735Z
UID:10000465-1889874000-1889877600@mylac.org
SUMMARY:Workforce Workshop
DESCRIPTION:Discover your rights and responsibilities as a worker and explore new employment opportunities. \n 
URL:https://mylac.org/event/workforce-workshop-2/2029-11-20/
ATTACH;FMTTYPE=image/png:https://mylac.org/wp-content/uploads/2026/01/5.png
END:VEVENT
BEGIN:VEVENT
DTSTART;TZID=America/New_York:20291121T100000
DTEND;TZID=America/New_York:20291121T120000
DTSTAMP:20260421T191005
CREATED:20260109T150259Z
LAST-MODIFIED:20260407T183816Z
UID:10000727-1889949600-1889956800@mylac.org
SUMMARY:Professional Resume Workshop
DESCRIPTION:Bring your work history and learn how to reframe it as your strengths.  \nRegister Here:
URL:https://mylac.org/event/professional-resume-workshop/2029-11-21/
ATTACH;FMTTYPE=image/png:https://mylac.org/wp-content/uploads/2026/01/7.png
END:VEVENT
BEGIN:VEVENT
DTSTART;TZID=America/New_York:20291127T130000
DTEND;TZID=America/New_York:20291127T140000
DTSTAMP:20260421T191005
CREATED:20260109T145103Z
LAST-MODIFIED:20260407T203735Z
UID:10000466-1890478800-1890482400@mylac.org
SUMMARY:Workforce Workshop
DESCRIPTION:Discover your rights and responsibilities as a worker and explore new employment opportunities. \n 
URL:https://mylac.org/event/workforce-workshop-2/2029-11-27/
ATTACH;FMTTYPE=image/png:https://mylac.org/wp-content/uploads/2026/01/5.png
END:VEVENT
BEGIN:VEVENT
DTSTART;TZID=America/New_York:20291128T100000
DTEND;TZID=America/New_York:20291128T120000
DTSTAMP:20260421T191005
CREATED:20260109T150259Z
LAST-MODIFIED:20260407T183816Z
UID:10000728-1890554400-1890561600@mylac.org
SUMMARY:Professional Resume Workshop
DESCRIPTION:Bring your work history and learn how to reframe it as your strengths.  \nRegister Here:
URL:https://mylac.org/event/professional-resume-workshop/2029-11-28/
ATTACH;FMTTYPE=image/png:https://mylac.org/wp-content/uploads/2026/01/7.png
END:VEVENT
BEGIN:VEVENT
DTSTART;TZID=America/New_York:20291204T130000
DTEND;TZID=America/New_York:20291204T140000
DTSTAMP:20260421T191005
CREATED:20260109T145103Z
LAST-MODIFIED:20260407T203735Z
UID:10000467-1891083600-1891087200@mylac.org
SUMMARY:Workforce Workshop
DESCRIPTION:Discover your rights and responsibilities as a worker and explore new employment opportunities. \n 
URL:https://mylac.org/event/workforce-workshop-2/2029-12-04/
ATTACH;FMTTYPE=image/png:https://mylac.org/wp-content/uploads/2026/01/5.png
END:VEVENT
BEGIN:VEVENT
DTSTART;TZID=America/New_York:20291205T100000
DTEND;TZID=America/New_York:20291205T120000
DTSTAMP:20260421T191005
CREATED:20260109T150259Z
LAST-MODIFIED:20260407T183816Z
UID:10000729-1891159200-1891166400@mylac.org
SUMMARY:Professional Resume Workshop
DESCRIPTION:Bring your work history and learn how to reframe it as your strengths.  \nRegister Here:
URL:https://mylac.org/event/professional-resume-workshop/2029-12-05/
ATTACH;FMTTYPE=image/png:https://mylac.org/wp-content/uploads/2026/01/7.png
END:VEVENT
BEGIN:VEVENT
DTSTART;TZID=America/New_York:20291211T130000
DTEND;TZID=America/New_York:20291211T140000
DTSTAMP:20260421T191005
CREATED:20260109T145103Z
LAST-MODIFIED:20260407T203735Z
UID:10000468-1891688400-1891692000@mylac.org
SUMMARY:Workforce Workshop
DESCRIPTION:Discover your rights and responsibilities as a worker and explore new employment opportunities. \n 
URL:https://mylac.org/event/workforce-workshop-2/2029-12-11/
ATTACH;FMTTYPE=image/png:https://mylac.org/wp-content/uploads/2026/01/5.png
END:VEVENT
BEGIN:VEVENT
DTSTART;TZID=America/New_York:20291212T100000
DTEND;TZID=America/New_York:20291212T120000
DTSTAMP:20260421T191005
CREATED:20260109T150259Z
LAST-MODIFIED:20260407T183816Z
UID:10000730-1891764000-1891771200@mylac.org
SUMMARY:Professional Resume Workshop
DESCRIPTION:Bring your work history and learn how to reframe it as your strengths.  \nRegister Here:
URL:https://mylac.org/event/professional-resume-workshop/2029-12-12/
ATTACH;FMTTYPE=image/png:https://mylac.org/wp-content/uploads/2026/01/7.png
END:VEVENT
BEGIN:VEVENT
DTSTART;TZID=America/New_York:20291218T130000
DTEND;TZID=America/New_York:20291218T140000
DTSTAMP:20260421T191005
CREATED:20260109T145103Z
LAST-MODIFIED:20260407T203735Z
UID:10000469-1892293200-1892296800@mylac.org
SUMMARY:Workforce Workshop
DESCRIPTION:Discover your rights and responsibilities as a worker and explore new employment opportunities. \n 
URL:https://mylac.org/event/workforce-workshop-2/2029-12-18/
ATTACH;FMTTYPE=image/png:https://mylac.org/wp-content/uploads/2026/01/5.png
END:VEVENT
END:VCALENDAR