BEGIN:VCALENDAR
VERSION:2.0
PRODID:-//Latin American Coalition - ECPv6.15.20//NONSGML v1.0//EN
CALSCALE:GREGORIAN
METHOD:PUBLISH
X-WR-CALNAME:Latin American Coalition
X-ORIGINAL-URL:https://mylac.org
X-WR-CALDESC:Events for Latin American Coalition
REFRESH-INTERVAL;VALUE=DURATION:PT1H
X-Robots-Tag:noindex
X-PUBLISHED-TTL:PT1H
BEGIN:VTIMEZONE
TZID:America/New_York
BEGIN:DAYLIGHT
TZOFFSETFROM:-0500
TZOFFSETTO:-0400
TZNAME:EDT
DTSTART:20280312T070000
END:DAYLIGHT
BEGIN:STANDARD
TZOFFSETFROM:-0400
TZOFFSETTO:-0500
TZNAME:EST
DTSTART:20281105T060000
END:STANDARD
BEGIN:DAYLIGHT
TZOFFSETFROM:-0500
TZOFFSETTO:-0400
TZNAME:EDT
DTSTART:20290311T070000
END:DAYLIGHT
BEGIN:STANDARD
TZOFFSETFROM:-0400
TZOFFSETTO:-0500
TZNAME:EST
DTSTART:20291104T060000
END:STANDARD
BEGIN:DAYLIGHT
TZOFFSETFROM:-0500
TZOFFSETTO:-0400
TZNAME:EDT
DTSTART:20300310T070000
END:DAYLIGHT
BEGIN:STANDARD
TZOFFSETFROM:-0400
TZOFFSETTO:-0500
TZNAME:EST
DTSTART:20301103T060000
END:STANDARD
END:VTIMEZONE
BEGIN:VEVENT
DTSTART;TZID=America/New_York:20290214T100000
DTEND;TZID=America/New_York:20290214T120000
DTSTAMP:20260421T143601
CREATED:20260109T150259Z
LAST-MODIFIED:20260407T183816Z
UID:10000687-1865757600-1865764800@mylac.org
SUMMARY:Professional Resume Workshop
DESCRIPTION:Bring your work history and learn how to reframe it as your strengths.  \nRegister Here:
URL:https://mylac.org/event/professional-resume-workshop/2029-02-14/
ATTACH;FMTTYPE=image/png:https://mylac.org/wp-content/uploads/2026/01/7.png
END:VEVENT
BEGIN:VEVENT
DTSTART;TZID=America/New_York:20290220T130000
DTEND;TZID=America/New_York:20290220T140000
DTSTAMP:20260421T143601
CREATED:20260109T145103Z
LAST-MODIFIED:20260407T203735Z
UID:10000426-1866286800-1866290400@mylac.org
SUMMARY:Workforce Workshop
DESCRIPTION:Discover your rights and responsibilities as a worker and explore new employment opportunities. \n 
URL:https://mylac.org/event/workforce-workshop-2/2029-02-20/
ATTACH;FMTTYPE=image/png:https://mylac.org/wp-content/uploads/2026/01/5.png
END:VEVENT
BEGIN:VEVENT
DTSTART;TZID=America/New_York:20290221T100000
DTEND;TZID=America/New_York:20290221T120000
DTSTAMP:20260421T143601
CREATED:20260109T150259Z
LAST-MODIFIED:20260407T183816Z
UID:10000688-1866362400-1866369600@mylac.org
SUMMARY:Professional Resume Workshop
DESCRIPTION:Bring your work history and learn how to reframe it as your strengths.  \nRegister Here:
URL:https://mylac.org/event/professional-resume-workshop/2029-02-21/
ATTACH;FMTTYPE=image/png:https://mylac.org/wp-content/uploads/2026/01/7.png
END:VEVENT
BEGIN:VEVENT
DTSTART;TZID=America/New_York:20290227T130000
DTEND;TZID=America/New_York:20290227T140000
DTSTAMP:20260421T143601
CREATED:20260109T145103Z
LAST-MODIFIED:20260407T203735Z
UID:10000427-1866891600-1866895200@mylac.org
SUMMARY:Workforce Workshop
DESCRIPTION:Discover your rights and responsibilities as a worker and explore new employment opportunities. \n 
URL:https://mylac.org/event/workforce-workshop-2/2029-02-27/
ATTACH;FMTTYPE=image/png:https://mylac.org/wp-content/uploads/2026/01/5.png
END:VEVENT
BEGIN:VEVENT
DTSTART;TZID=America/New_York:20290228T100000
DTEND;TZID=America/New_York:20290228T120000
DTSTAMP:20260421T143601
CREATED:20260109T150259Z
LAST-MODIFIED:20260407T183816Z
UID:10000689-1866967200-1866974400@mylac.org
SUMMARY:Professional Resume Workshop
DESCRIPTION:Bring your work history and learn how to reframe it as your strengths.  \nRegister Here:
URL:https://mylac.org/event/professional-resume-workshop/2029-02-28/
ATTACH;FMTTYPE=image/png:https://mylac.org/wp-content/uploads/2026/01/7.png
END:VEVENT
BEGIN:VEVENT
DTSTART;TZID=America/New_York:20290306T130000
DTEND;TZID=America/New_York:20290306T140000
DTSTAMP:20260421T143601
CREATED:20260109T145103Z
LAST-MODIFIED:20260407T203735Z
UID:10000428-1867496400-1867500000@mylac.org
SUMMARY:Workforce Workshop
DESCRIPTION:Discover your rights and responsibilities as a worker and explore new employment opportunities. \n 
URL:https://mylac.org/event/workforce-workshop-2/2029-03-06/
ATTACH;FMTTYPE=image/png:https://mylac.org/wp-content/uploads/2026/01/5.png
END:VEVENT
BEGIN:VEVENT
DTSTART;TZID=America/New_York:20290307T100000
DTEND;TZID=America/New_York:20290307T120000
DTSTAMP:20260421T143601
CREATED:20260109T150259Z
LAST-MODIFIED:20260407T183816Z
UID:10000690-1867572000-1867579200@mylac.org
SUMMARY:Professional Resume Workshop
DESCRIPTION:Bring your work history and learn how to reframe it as your strengths.  \nRegister Here:
URL:https://mylac.org/event/professional-resume-workshop/2029-03-07/
ATTACH;FMTTYPE=image/png:https://mylac.org/wp-content/uploads/2026/01/7.png
END:VEVENT
BEGIN:VEVENT
DTSTART;TZID=America/New_York:20290313T130000
DTEND;TZID=America/New_York:20290313T140000
DTSTAMP:20260421T143601
CREATED:20260109T145103Z
LAST-MODIFIED:20260407T203735Z
UID:10000429-1868101200-1868104800@mylac.org
SUMMARY:Workforce Workshop
DESCRIPTION:Discover your rights and responsibilities as a worker and explore new employment opportunities. \n 
URL:https://mylac.org/event/workforce-workshop-2/2029-03-13/
ATTACH;FMTTYPE=image/png:https://mylac.org/wp-content/uploads/2026/01/5.png
END:VEVENT
BEGIN:VEVENT
DTSTART;TZID=America/New_York:20290314T100000
DTEND;TZID=America/New_York:20290314T120000
DTSTAMP:20260421T143601
CREATED:20260109T150259Z
LAST-MODIFIED:20260407T183816Z
UID:10000691-1868176800-1868184000@mylac.org
SUMMARY:Professional Resume Workshop
DESCRIPTION:Bring your work history and learn how to reframe it as your strengths.  \nRegister Here:
URL:https://mylac.org/event/professional-resume-workshop/2029-03-14/
ATTACH;FMTTYPE=image/png:https://mylac.org/wp-content/uploads/2026/01/7.png
END:VEVENT
BEGIN:VEVENT
DTSTART;TZID=America/New_York:20290320T130000
DTEND;TZID=America/New_York:20290320T140000
DTSTAMP:20260421T143601
CREATED:20260109T145103Z
LAST-MODIFIED:20260407T203735Z
UID:10000430-1868706000-1868709600@mylac.org
SUMMARY:Workforce Workshop
DESCRIPTION:Discover your rights and responsibilities as a worker and explore new employment opportunities. \n 
URL:https://mylac.org/event/workforce-workshop-2/2029-03-20/
ATTACH;FMTTYPE=image/png:https://mylac.org/wp-content/uploads/2026/01/5.png
END:VEVENT
BEGIN:VEVENT
DTSTART;TZID=America/New_York:20290321T100000
DTEND;TZID=America/New_York:20290321T120000
DTSTAMP:20260421T143601
CREATED:20260109T150259Z
LAST-MODIFIED:20260407T183816Z
UID:10000692-1868781600-1868788800@mylac.org
SUMMARY:Professional Resume Workshop
DESCRIPTION:Bring your work history and learn how to reframe it as your strengths.  \nRegister Here:
URL:https://mylac.org/event/professional-resume-workshop/2029-03-21/
ATTACH;FMTTYPE=image/png:https://mylac.org/wp-content/uploads/2026/01/7.png
END:VEVENT
BEGIN:VEVENT
DTSTART;TZID=America/New_York:20290327T130000
DTEND;TZID=America/New_York:20290327T140000
DTSTAMP:20260421T143601
CREATED:20260109T145103Z
LAST-MODIFIED:20260407T203735Z
UID:10000431-1869310800-1869314400@mylac.org
SUMMARY:Workforce Workshop
DESCRIPTION:Discover your rights and responsibilities as a worker and explore new employment opportunities. \n 
URL:https://mylac.org/event/workforce-workshop-2/2029-03-27/
ATTACH;FMTTYPE=image/png:https://mylac.org/wp-content/uploads/2026/01/5.png
END:VEVENT
BEGIN:VEVENT
DTSTART;TZID=America/New_York:20290328T100000
DTEND;TZID=America/New_York:20290328T120000
DTSTAMP:20260421T143601
CREATED:20260109T150259Z
LAST-MODIFIED:20260407T183816Z
UID:10000693-1869386400-1869393600@mylac.org
SUMMARY:Professional Resume Workshop
DESCRIPTION:Bring your work history and learn how to reframe it as your strengths.  \nRegister Here:
URL:https://mylac.org/event/professional-resume-workshop/2029-03-28/
ATTACH;FMTTYPE=image/png:https://mylac.org/wp-content/uploads/2026/01/7.png
END:VEVENT
BEGIN:VEVENT
DTSTART;TZID=America/New_York:20290403T130000
DTEND;TZID=America/New_York:20290403T140000
DTSTAMP:20260421T143601
CREATED:20260109T145103Z
LAST-MODIFIED:20260407T203735Z
UID:10000432-1869915600-1869919200@mylac.org
SUMMARY:Workforce Workshop
DESCRIPTION:Discover your rights and responsibilities as a worker and explore new employment opportunities. \n 
URL:https://mylac.org/event/workforce-workshop-2/2029-04-03/
ATTACH;FMTTYPE=image/png:https://mylac.org/wp-content/uploads/2026/01/5.png
END:VEVENT
BEGIN:VEVENT
DTSTART;TZID=America/New_York:20290404T100000
DTEND;TZID=America/New_York:20290404T120000
DTSTAMP:20260421T143601
CREATED:20260109T150259Z
LAST-MODIFIED:20260407T183816Z
UID:10000694-1869991200-1869998400@mylac.org
SUMMARY:Professional Resume Workshop
DESCRIPTION:Bring your work history and learn how to reframe it as your strengths.  \nRegister Here:
URL:https://mylac.org/event/professional-resume-workshop/2029-04-04/
ATTACH;FMTTYPE=image/png:https://mylac.org/wp-content/uploads/2026/01/7.png
END:VEVENT
BEGIN:VEVENT
DTSTART;TZID=America/New_York:20290410T130000
DTEND;TZID=America/New_York:20290410T140000
DTSTAMP:20260421T143602
CREATED:20260109T145103Z
LAST-MODIFIED:20260407T203735Z
UID:10000433-1870520400-1870524000@mylac.org
SUMMARY:Workforce Workshop
DESCRIPTION:Discover your rights and responsibilities as a worker and explore new employment opportunities. \n 
URL:https://mylac.org/event/workforce-workshop-2/2029-04-10/
ATTACH;FMTTYPE=image/png:https://mylac.org/wp-content/uploads/2026/01/5.png
END:VEVENT
BEGIN:VEVENT
DTSTART;TZID=America/New_York:20290411T100000
DTEND;TZID=America/New_York:20290411T120000
DTSTAMP:20260421T143602
CREATED:20260109T150259Z
LAST-MODIFIED:20260407T183816Z
UID:10000695-1870596000-1870603200@mylac.org
SUMMARY:Professional Resume Workshop
DESCRIPTION:Bring your work history and learn how to reframe it as your strengths.  \nRegister Here:
URL:https://mylac.org/event/professional-resume-workshop/2029-04-11/
ATTACH;FMTTYPE=image/png:https://mylac.org/wp-content/uploads/2026/01/7.png
END:VEVENT
BEGIN:VEVENT
DTSTART;TZID=America/New_York:20290417T130000
DTEND;TZID=America/New_York:20290417T140000
DTSTAMP:20260421T143602
CREATED:20260109T145103Z
LAST-MODIFIED:20260407T203735Z
UID:10000434-1871125200-1871128800@mylac.org
SUMMARY:Workforce Workshop
DESCRIPTION:Discover your rights and responsibilities as a worker and explore new employment opportunities. \n 
URL:https://mylac.org/event/workforce-workshop-2/2029-04-17/
ATTACH;FMTTYPE=image/png:https://mylac.org/wp-content/uploads/2026/01/5.png
END:VEVENT
BEGIN:VEVENT
DTSTART;TZID=America/New_York:20290418T100000
DTEND;TZID=America/New_York:20290418T120000
DTSTAMP:20260421T143602
CREATED:20260109T150259Z
LAST-MODIFIED:20260407T183816Z
UID:10000696-1871200800-1871208000@mylac.org
SUMMARY:Professional Resume Workshop
DESCRIPTION:Bring your work history and learn how to reframe it as your strengths.  \nRegister Here:
URL:https://mylac.org/event/professional-resume-workshop/2029-04-18/
ATTACH;FMTTYPE=image/png:https://mylac.org/wp-content/uploads/2026/01/7.png
END:VEVENT
BEGIN:VEVENT
DTSTART;TZID=America/New_York:20290424T130000
DTEND;TZID=America/New_York:20290424T140000
DTSTAMP:20260421T143602
CREATED:20260109T145103Z
LAST-MODIFIED:20260407T203735Z
UID:10000435-1871730000-1871733600@mylac.org
SUMMARY:Workforce Workshop
DESCRIPTION:Discover your rights and responsibilities as a worker and explore new employment opportunities. \n 
URL:https://mylac.org/event/workforce-workshop-2/2029-04-24/
ATTACH;FMTTYPE=image/png:https://mylac.org/wp-content/uploads/2026/01/5.png
END:VEVENT
BEGIN:VEVENT
DTSTART;TZID=America/New_York:20290425T100000
DTEND;TZID=America/New_York:20290425T120000
DTSTAMP:20260421T143602
CREATED:20260109T150259Z
LAST-MODIFIED:20260407T183816Z
UID:10000697-1871805600-1871812800@mylac.org
SUMMARY:Professional Resume Workshop
DESCRIPTION:Bring your work history and learn how to reframe it as your strengths.  \nRegister Here:
URL:https://mylac.org/event/professional-resume-workshop/2029-04-25/
ATTACH;FMTTYPE=image/png:https://mylac.org/wp-content/uploads/2026/01/7.png
END:VEVENT
BEGIN:VEVENT
DTSTART;TZID=America/New_York:20290501T130000
DTEND;TZID=America/New_York:20290501T140000
DTSTAMP:20260421T143602
CREATED:20260109T145103Z
LAST-MODIFIED:20260407T203735Z
UID:10000436-1872334800-1872338400@mylac.org
SUMMARY:Workforce Workshop
DESCRIPTION:Discover your rights and responsibilities as a worker and explore new employment opportunities. \n 
URL:https://mylac.org/event/workforce-workshop-2/2029-05-01/
ATTACH;FMTTYPE=image/png:https://mylac.org/wp-content/uploads/2026/01/5.png
END:VEVENT
BEGIN:VEVENT
DTSTART;TZID=America/New_York:20290502T100000
DTEND;TZID=America/New_York:20290502T120000
DTSTAMP:20260421T143602
CREATED:20260109T150259Z
LAST-MODIFIED:20260407T183816Z
UID:10000698-1872410400-1872417600@mylac.org
SUMMARY:Professional Resume Workshop
DESCRIPTION:Bring your work history and learn how to reframe it as your strengths.  \nRegister Here:
URL:https://mylac.org/event/professional-resume-workshop/2029-05-02/
ATTACH;FMTTYPE=image/png:https://mylac.org/wp-content/uploads/2026/01/7.png
END:VEVENT
BEGIN:VEVENT
DTSTART;TZID=America/New_York:20290508T130000
DTEND;TZID=America/New_York:20290508T140000
DTSTAMP:20260421T143602
CREATED:20260109T145103Z
LAST-MODIFIED:20260407T203735Z
UID:10000437-1872939600-1872943200@mylac.org
SUMMARY:Workforce Workshop
DESCRIPTION:Discover your rights and responsibilities as a worker and explore new employment opportunities. \n 
URL:https://mylac.org/event/workforce-workshop-2/2029-05-08/
ATTACH;FMTTYPE=image/png:https://mylac.org/wp-content/uploads/2026/01/5.png
END:VEVENT
BEGIN:VEVENT
DTSTART;TZID=America/New_York:20290509T100000
DTEND;TZID=America/New_York:20290509T120000
DTSTAMP:20260421T143602
CREATED:20260109T150259Z
LAST-MODIFIED:20260407T183816Z
UID:10000699-1873015200-1873022400@mylac.org
SUMMARY:Professional Resume Workshop
DESCRIPTION:Bring your work history and learn how to reframe it as your strengths.  \nRegister Here:
URL:https://mylac.org/event/professional-resume-workshop/2029-05-09/
ATTACH;FMTTYPE=image/png:https://mylac.org/wp-content/uploads/2026/01/7.png
END:VEVENT
BEGIN:VEVENT
DTSTART;TZID=America/New_York:20290515T130000
DTEND;TZID=America/New_York:20290515T140000
DTSTAMP:20260421T143602
CREATED:20260109T145103Z
LAST-MODIFIED:20260407T203735Z
UID:10000438-1873544400-1873548000@mylac.org
SUMMARY:Workforce Workshop
DESCRIPTION:Discover your rights and responsibilities as a worker and explore new employment opportunities. \n 
URL:https://mylac.org/event/workforce-workshop-2/2029-05-15/
ATTACH;FMTTYPE=image/png:https://mylac.org/wp-content/uploads/2026/01/5.png
END:VEVENT
BEGIN:VEVENT
DTSTART;TZID=America/New_York:20290516T100000
DTEND;TZID=America/New_York:20290516T120000
DTSTAMP:20260421T143602
CREATED:20260109T150259Z
LAST-MODIFIED:20260407T183816Z
UID:10000700-1873620000-1873627200@mylac.org
SUMMARY:Professional Resume Workshop
DESCRIPTION:Bring your work history and learn how to reframe it as your strengths.  \nRegister Here:
URL:https://mylac.org/event/professional-resume-workshop/2029-05-16/
ATTACH;FMTTYPE=image/png:https://mylac.org/wp-content/uploads/2026/01/7.png
END:VEVENT
BEGIN:VEVENT
DTSTART;TZID=America/New_York:20290522T130000
DTEND;TZID=America/New_York:20290522T140000
DTSTAMP:20260421T143602
CREATED:20260109T145103Z
LAST-MODIFIED:20260407T203735Z
UID:10000439-1874149200-1874152800@mylac.org
SUMMARY:Workforce Workshop
DESCRIPTION:Discover your rights and responsibilities as a worker and explore new employment opportunities. \n 
URL:https://mylac.org/event/workforce-workshop-2/2029-05-22/
ATTACH;FMTTYPE=image/png:https://mylac.org/wp-content/uploads/2026/01/5.png
END:VEVENT
BEGIN:VEVENT
DTSTART;TZID=America/New_York:20290523T100000
DTEND;TZID=America/New_York:20290523T120000
DTSTAMP:20260421T143602
CREATED:20260109T150259Z
LAST-MODIFIED:20260407T183816Z
UID:10000701-1874224800-1874232000@mylac.org
SUMMARY:Professional Resume Workshop
DESCRIPTION:Bring your work history and learn how to reframe it as your strengths.  \nRegister Here:
URL:https://mylac.org/event/professional-resume-workshop/2029-05-23/
ATTACH;FMTTYPE=image/png:https://mylac.org/wp-content/uploads/2026/01/7.png
END:VEVENT
BEGIN:VEVENT
DTSTART;TZID=America/New_York:20290529T130000
DTEND;TZID=America/New_York:20290529T140000
DTSTAMP:20260421T143602
CREATED:20260109T145103Z
LAST-MODIFIED:20260407T203735Z
UID:10000440-1874754000-1874757600@mylac.org
SUMMARY:Workforce Workshop
DESCRIPTION:Discover your rights and responsibilities as a worker and explore new employment opportunities. \n 
URL:https://mylac.org/event/workforce-workshop-2/2029-05-29/
ATTACH;FMTTYPE=image/png:https://mylac.org/wp-content/uploads/2026/01/5.png
END:VEVENT
END:VCALENDAR