BEGIN:VCALENDAR
VERSION:2.0
PRODID:-//Latin American Coalition - ECPv6.15.20//NONSGML v1.0//EN
CALSCALE:GREGORIAN
METHOD:PUBLISH
X-WR-CALNAME:Latin American Coalition
X-ORIGINAL-URL:https://mylac.org
X-WR-CALDESC:Events for Latin American Coalition
REFRESH-INTERVAL;VALUE=DURATION:PT1H
X-Robots-Tag:noindex
X-PUBLISHED-TTL:PT1H
BEGIN:VTIMEZONE
TZID:America/New_York
BEGIN:DAYLIGHT
TZOFFSETFROM:-0500
TZOFFSETTO:-0400
TZNAME:EDT
DTSTART:20280312T070000
END:DAYLIGHT
BEGIN:STANDARD
TZOFFSETFROM:-0400
TZOFFSETTO:-0500
TZNAME:EST
DTSTART:20281105T060000
END:STANDARD
BEGIN:DAYLIGHT
TZOFFSETFROM:-0500
TZOFFSETTO:-0400
TZNAME:EDT
DTSTART:20290311T070000
END:DAYLIGHT
BEGIN:STANDARD
TZOFFSETFROM:-0400
TZOFFSETTO:-0500
TZNAME:EST
DTSTART:20291104T060000
END:STANDARD
BEGIN:DAYLIGHT
TZOFFSETFROM:-0500
TZOFFSETTO:-0400
TZNAME:EDT
DTSTART:20300310T070000
END:DAYLIGHT
BEGIN:STANDARD
TZOFFSETFROM:-0400
TZOFFSETTO:-0500
TZNAME:EST
DTSTART:20301103T060000
END:STANDARD
BEGIN:DAYLIGHT
TZOFFSETFROM:-0500
TZOFFSETTO:-0400
TZNAME:EDT
DTSTART:20310309T070000
END:DAYLIGHT
BEGIN:STANDARD
TZOFFSETFROM:-0400
TZOFFSETTO:-0500
TZNAME:EST
DTSTART:20311102T060000
END:STANDARD
END:VTIMEZONE
BEGIN:VEVENT
DTSTART;TZID=America/New_York:20291127T130000
DTEND;TZID=America/New_York:20291127T140000
DTSTAMP:20260421T192807
CREATED:20260109T145103Z
LAST-MODIFIED:20260407T203735Z
UID:10000466-1890478800-1890482400@mylac.org
SUMMARY:Workforce Workshop
DESCRIPTION:Discover your rights and responsibilities as a worker and explore new employment opportunities. \n 
URL:https://mylac.org/event/workforce-workshop-2/2029-11-27/
ATTACH;FMTTYPE=image/png:https://mylac.org/wp-content/uploads/2026/01/5.png
END:VEVENT
BEGIN:VEVENT
DTSTART;TZID=America/New_York:20291128T100000
DTEND;TZID=America/New_York:20291128T120000
DTSTAMP:20260421T192807
CREATED:20260109T150259Z
LAST-MODIFIED:20260407T183816Z
UID:10000728-1890554400-1890561600@mylac.org
SUMMARY:Professional Resume Workshop
DESCRIPTION:Bring your work history and learn how to reframe it as your strengths.  \nRegister Here:
URL:https://mylac.org/event/professional-resume-workshop/2029-11-28/
ATTACH;FMTTYPE=image/png:https://mylac.org/wp-content/uploads/2026/01/7.png
END:VEVENT
BEGIN:VEVENT
DTSTART;TZID=America/New_York:20291204T130000
DTEND;TZID=America/New_York:20291204T140000
DTSTAMP:20260421T192807
CREATED:20260109T145103Z
LAST-MODIFIED:20260407T203735Z
UID:10000467-1891083600-1891087200@mylac.org
SUMMARY:Workforce Workshop
DESCRIPTION:Discover your rights and responsibilities as a worker and explore new employment opportunities. \n 
URL:https://mylac.org/event/workforce-workshop-2/2029-12-04/
ATTACH;FMTTYPE=image/png:https://mylac.org/wp-content/uploads/2026/01/5.png
END:VEVENT
BEGIN:VEVENT
DTSTART;TZID=America/New_York:20291205T100000
DTEND;TZID=America/New_York:20291205T120000
DTSTAMP:20260421T192807
CREATED:20260109T150259Z
LAST-MODIFIED:20260407T183816Z
UID:10000729-1891159200-1891166400@mylac.org
SUMMARY:Professional Resume Workshop
DESCRIPTION:Bring your work history and learn how to reframe it as your strengths.  \nRegister Here:
URL:https://mylac.org/event/professional-resume-workshop/2029-12-05/
ATTACH;FMTTYPE=image/png:https://mylac.org/wp-content/uploads/2026/01/7.png
END:VEVENT
BEGIN:VEVENT
DTSTART;TZID=America/New_York:20291211T130000
DTEND;TZID=America/New_York:20291211T140000
DTSTAMP:20260421T192807
CREATED:20260109T145103Z
LAST-MODIFIED:20260407T203735Z
UID:10000468-1891688400-1891692000@mylac.org
SUMMARY:Workforce Workshop
DESCRIPTION:Discover your rights and responsibilities as a worker and explore new employment opportunities. \n 
URL:https://mylac.org/event/workforce-workshop-2/2029-12-11/
ATTACH;FMTTYPE=image/png:https://mylac.org/wp-content/uploads/2026/01/5.png
END:VEVENT
BEGIN:VEVENT
DTSTART;TZID=America/New_York:20291212T100000
DTEND;TZID=America/New_York:20291212T120000
DTSTAMP:20260421T192807
CREATED:20260109T150259Z
LAST-MODIFIED:20260407T183816Z
UID:10000730-1891764000-1891771200@mylac.org
SUMMARY:Professional Resume Workshop
DESCRIPTION:Bring your work history and learn how to reframe it as your strengths.  \nRegister Here:
URL:https://mylac.org/event/professional-resume-workshop/2029-12-12/
ATTACH;FMTTYPE=image/png:https://mylac.org/wp-content/uploads/2026/01/7.png
END:VEVENT
BEGIN:VEVENT
DTSTART;TZID=America/New_York:20291218T130000
DTEND;TZID=America/New_York:20291218T140000
DTSTAMP:20260421T192807
CREATED:20260109T145103Z
LAST-MODIFIED:20260407T203735Z
UID:10000469-1892293200-1892296800@mylac.org
SUMMARY:Workforce Workshop
DESCRIPTION:Discover your rights and responsibilities as a worker and explore new employment opportunities. \n 
URL:https://mylac.org/event/workforce-workshop-2/2029-12-18/
ATTACH;FMTTYPE=image/png:https://mylac.org/wp-content/uploads/2026/01/5.png
END:VEVENT
BEGIN:VEVENT
DTSTART;TZID=America/New_York:20291219T100000
DTEND;TZID=America/New_York:20291219T120000
DTSTAMP:20260421T192807
CREATED:20260109T150259Z
LAST-MODIFIED:20260407T183816Z
UID:10000731-1892368800-1892376000@mylac.org
SUMMARY:Professional Resume Workshop
DESCRIPTION:Bring your work history and learn how to reframe it as your strengths.  \nRegister Here:
URL:https://mylac.org/event/professional-resume-workshop/2029-12-19/
ATTACH;FMTTYPE=image/png:https://mylac.org/wp-content/uploads/2026/01/7.png
END:VEVENT
BEGIN:VEVENT
DTSTART;TZID=America/New_York:20291225T130000
DTEND;TZID=America/New_York:20291225T140000
DTSTAMP:20260421T192807
CREATED:20260109T145103Z
LAST-MODIFIED:20260407T203735Z
UID:10000470-1892898000-1892901600@mylac.org
SUMMARY:Workforce Workshop
DESCRIPTION:Discover your rights and responsibilities as a worker and explore new employment opportunities. \n 
URL:https://mylac.org/event/workforce-workshop-2/2029-12-25/
ATTACH;FMTTYPE=image/png:https://mylac.org/wp-content/uploads/2026/01/5.png
END:VEVENT
BEGIN:VEVENT
DTSTART;TZID=America/New_York:20291226T100000
DTEND;TZID=America/New_York:20291226T120000
DTSTAMP:20260421T192807
CREATED:20260109T150259Z
LAST-MODIFIED:20260407T183816Z
UID:10000732-1892973600-1892980800@mylac.org
SUMMARY:Professional Resume Workshop
DESCRIPTION:Bring your work history and learn how to reframe it as your strengths.  \nRegister Here:
URL:https://mylac.org/event/professional-resume-workshop/2029-12-26/
ATTACH;FMTTYPE=image/png:https://mylac.org/wp-content/uploads/2026/01/7.png
END:VEVENT
BEGIN:VEVENT
DTSTART;TZID=America/New_York:20300101T130000
DTEND;TZID=America/New_York:20300101T140000
DTSTAMP:20260421T192807
CREATED:20260109T145103Z
LAST-MODIFIED:20260407T203735Z
UID:10000471-1893502800-1893506400@mylac.org
SUMMARY:Workforce Workshop
DESCRIPTION:Discover your rights and responsibilities as a worker and explore new employment opportunities. \n 
URL:https://mylac.org/event/workforce-workshop-2/2030-01-01/
ATTACH;FMTTYPE=image/png:https://mylac.org/wp-content/uploads/2026/01/5.png
END:VEVENT
BEGIN:VEVENT
DTSTART;TZID=America/New_York:20300102T100000
DTEND;TZID=America/New_York:20300102T120000
DTSTAMP:20260421T192807
CREATED:20260109T150259Z
LAST-MODIFIED:20260407T183816Z
UID:10000733-1893578400-1893585600@mylac.org
SUMMARY:Professional Resume Workshop
DESCRIPTION:Bring your work history and learn how to reframe it as your strengths.  \nRegister Here:
URL:https://mylac.org/event/professional-resume-workshop/2030-01-02/
ATTACH;FMTTYPE=image/png:https://mylac.org/wp-content/uploads/2026/01/7.png
END:VEVENT
BEGIN:VEVENT
DTSTART;TZID=America/New_York:20300108T130000
DTEND;TZID=America/New_York:20300108T140000
DTSTAMP:20260421T192807
CREATED:20260109T145103Z
LAST-MODIFIED:20260407T203735Z
UID:10000472-1894107600-1894111200@mylac.org
SUMMARY:Workforce Workshop
DESCRIPTION:Discover your rights and responsibilities as a worker and explore new employment opportunities. \n 
URL:https://mylac.org/event/workforce-workshop-2/2030-01-08/
ATTACH;FMTTYPE=image/png:https://mylac.org/wp-content/uploads/2026/01/5.png
END:VEVENT
BEGIN:VEVENT
DTSTART;TZID=America/New_York:20300109T100000
DTEND;TZID=America/New_York:20300109T120000
DTSTAMP:20260421T192807
CREATED:20260109T150259Z
LAST-MODIFIED:20260407T183816Z
UID:10000734-1894183200-1894190400@mylac.org
SUMMARY:Professional Resume Workshop
DESCRIPTION:Bring your work history and learn how to reframe it as your strengths.  \nRegister Here:
URL:https://mylac.org/event/professional-resume-workshop/2030-01-09/
ATTACH;FMTTYPE=image/png:https://mylac.org/wp-content/uploads/2026/01/7.png
END:VEVENT
BEGIN:VEVENT
DTSTART;TZID=America/New_York:20300115T130000
DTEND;TZID=America/New_York:20300115T140000
DTSTAMP:20260421T192807
CREATED:20260109T145103Z
LAST-MODIFIED:20260407T203735Z
UID:10000473-1894712400-1894716000@mylac.org
SUMMARY:Workforce Workshop
DESCRIPTION:Discover your rights and responsibilities as a worker and explore new employment opportunities. \n 
URL:https://mylac.org/event/workforce-workshop-2/2030-01-15/
ATTACH;FMTTYPE=image/png:https://mylac.org/wp-content/uploads/2026/01/5.png
END:VEVENT
BEGIN:VEVENT
DTSTART;TZID=America/New_York:20300116T100000
DTEND;TZID=America/New_York:20300116T120000
DTSTAMP:20260421T192807
CREATED:20260109T150259Z
LAST-MODIFIED:20260407T183816Z
UID:10000735-1894788000-1894795200@mylac.org
SUMMARY:Professional Resume Workshop
DESCRIPTION:Bring your work history and learn how to reframe it as your strengths.  \nRegister Here:
URL:https://mylac.org/event/professional-resume-workshop/2030-01-16/
ATTACH;FMTTYPE=image/png:https://mylac.org/wp-content/uploads/2026/01/7.png
END:VEVENT
BEGIN:VEVENT
DTSTART;TZID=America/New_York:20300122T130000
DTEND;TZID=America/New_York:20300122T140000
DTSTAMP:20260421T192807
CREATED:20260109T145103Z
LAST-MODIFIED:20260407T203735Z
UID:10000474-1895317200-1895320800@mylac.org
SUMMARY:Workforce Workshop
DESCRIPTION:Discover your rights and responsibilities as a worker and explore new employment opportunities. \n 
URL:https://mylac.org/event/workforce-workshop-2/2030-01-22/
ATTACH;FMTTYPE=image/png:https://mylac.org/wp-content/uploads/2026/01/5.png
END:VEVENT
BEGIN:VEVENT
DTSTART;TZID=America/New_York:20300123T100000
DTEND;TZID=America/New_York:20300123T120000
DTSTAMP:20260421T192807
CREATED:20260109T150259Z
LAST-MODIFIED:20260407T183816Z
UID:10000736-1895392800-1895400000@mylac.org
SUMMARY:Professional Resume Workshop
DESCRIPTION:Bring your work history and learn how to reframe it as your strengths.  \nRegister Here:
URL:https://mylac.org/event/professional-resume-workshop/2030-01-23/
ATTACH;FMTTYPE=image/png:https://mylac.org/wp-content/uploads/2026/01/7.png
END:VEVENT
BEGIN:VEVENT
DTSTART;TZID=America/New_York:20300129T130000
DTEND;TZID=America/New_York:20300129T140000
DTSTAMP:20260421T192807
CREATED:20260109T145103Z
LAST-MODIFIED:20260407T203735Z
UID:10000475-1895922000-1895925600@mylac.org
SUMMARY:Workforce Workshop
DESCRIPTION:Discover your rights and responsibilities as a worker and explore new employment opportunities. \n 
URL:https://mylac.org/event/workforce-workshop-2/2030-01-29/
ATTACH;FMTTYPE=image/png:https://mylac.org/wp-content/uploads/2026/01/5.png
END:VEVENT
BEGIN:VEVENT
DTSTART;TZID=America/New_York:20300130T100000
DTEND;TZID=America/New_York:20300130T120000
DTSTAMP:20260421T192807
CREATED:20260109T150259Z
LAST-MODIFIED:20260407T183816Z
UID:10000737-1895997600-1896004800@mylac.org
SUMMARY:Professional Resume Workshop
DESCRIPTION:Bring your work history and learn how to reframe it as your strengths.  \nRegister Here:
URL:https://mylac.org/event/professional-resume-workshop/2030-01-30/
ATTACH;FMTTYPE=image/png:https://mylac.org/wp-content/uploads/2026/01/7.png
END:VEVENT
BEGIN:VEVENT
DTSTART;TZID=America/New_York:20300205T130000
DTEND;TZID=America/New_York:20300205T140000
DTSTAMP:20260421T192807
CREATED:20260109T145103Z
LAST-MODIFIED:20260407T203735Z
UID:10000476-1896526800-1896530400@mylac.org
SUMMARY:Workforce Workshop
DESCRIPTION:Discover your rights and responsibilities as a worker and explore new employment opportunities. \n 
URL:https://mylac.org/event/workforce-workshop-2/2030-02-05/
ATTACH;FMTTYPE=image/png:https://mylac.org/wp-content/uploads/2026/01/5.png
END:VEVENT
BEGIN:VEVENT
DTSTART;TZID=America/New_York:20300206T100000
DTEND;TZID=America/New_York:20300206T120000
DTSTAMP:20260421T192807
CREATED:20260109T150259Z
LAST-MODIFIED:20260407T183816Z
UID:10000738-1896602400-1896609600@mylac.org
SUMMARY:Professional Resume Workshop
DESCRIPTION:Bring your work history and learn how to reframe it as your strengths.  \nRegister Here:
URL:https://mylac.org/event/professional-resume-workshop/2030-02-06/
ATTACH;FMTTYPE=image/png:https://mylac.org/wp-content/uploads/2026/01/7.png
END:VEVENT
BEGIN:VEVENT
DTSTART;TZID=America/New_York:20300212T130000
DTEND;TZID=America/New_York:20300212T140000
DTSTAMP:20260421T192807
CREATED:20260109T145103Z
LAST-MODIFIED:20260407T203735Z
UID:10000477-1897131600-1897135200@mylac.org
SUMMARY:Workforce Workshop
DESCRIPTION:Discover your rights and responsibilities as a worker and explore new employment opportunities. \n 
URL:https://mylac.org/event/workforce-workshop-2/2030-02-12/
ATTACH;FMTTYPE=image/png:https://mylac.org/wp-content/uploads/2026/01/5.png
END:VEVENT
BEGIN:VEVENT
DTSTART;TZID=America/New_York:20300213T100000
DTEND;TZID=America/New_York:20300213T120000
DTSTAMP:20260421T192807
CREATED:20260109T150259Z
LAST-MODIFIED:20260407T183816Z
UID:10000739-1897207200-1897214400@mylac.org
SUMMARY:Professional Resume Workshop
DESCRIPTION:Bring your work history and learn how to reframe it as your strengths.  \nRegister Here:
URL:https://mylac.org/event/professional-resume-workshop/2030-02-13/
ATTACH;FMTTYPE=image/png:https://mylac.org/wp-content/uploads/2026/01/7.png
END:VEVENT
BEGIN:VEVENT
DTSTART;TZID=America/New_York:20300219T130000
DTEND;TZID=America/New_York:20300219T140000
DTSTAMP:20260421T192807
CREATED:20260109T145103Z
LAST-MODIFIED:20260407T203735Z
UID:10000478-1897736400-1897740000@mylac.org
SUMMARY:Workforce Workshop
DESCRIPTION:Discover your rights and responsibilities as a worker and explore new employment opportunities. \n 
URL:https://mylac.org/event/workforce-workshop-2/2030-02-19/
ATTACH;FMTTYPE=image/png:https://mylac.org/wp-content/uploads/2026/01/5.png
END:VEVENT
BEGIN:VEVENT
DTSTART;TZID=America/New_York:20300220T100000
DTEND;TZID=America/New_York:20300220T120000
DTSTAMP:20260421T192807
CREATED:20260109T150259Z
LAST-MODIFIED:20260407T183816Z
UID:10000740-1897812000-1897819200@mylac.org
SUMMARY:Professional Resume Workshop
DESCRIPTION:Bring your work history and learn how to reframe it as your strengths.  \nRegister Here:
URL:https://mylac.org/event/professional-resume-workshop/2030-02-20/
ATTACH;FMTTYPE=image/png:https://mylac.org/wp-content/uploads/2026/01/7.png
END:VEVENT
BEGIN:VEVENT
DTSTART;TZID=America/New_York:20300226T130000
DTEND;TZID=America/New_York:20300226T140000
DTSTAMP:20260421T192807
CREATED:20260109T145103Z
LAST-MODIFIED:20260407T203735Z
UID:10000479-1898341200-1898344800@mylac.org
SUMMARY:Workforce Workshop
DESCRIPTION:Discover your rights and responsibilities as a worker and explore new employment opportunities. \n 
URL:https://mylac.org/event/workforce-workshop-2/2030-02-26/
ATTACH;FMTTYPE=image/png:https://mylac.org/wp-content/uploads/2026/01/5.png
END:VEVENT
BEGIN:VEVENT
DTSTART;TZID=America/New_York:20300227T100000
DTEND;TZID=America/New_York:20300227T120000
DTSTAMP:20260421T192807
CREATED:20260109T150259Z
LAST-MODIFIED:20260407T183816Z
UID:10000741-1898416800-1898424000@mylac.org
SUMMARY:Professional Resume Workshop
DESCRIPTION:Bring your work history and learn how to reframe it as your strengths.  \nRegister Here:
URL:https://mylac.org/event/professional-resume-workshop/2030-02-27/
ATTACH;FMTTYPE=image/png:https://mylac.org/wp-content/uploads/2026/01/7.png
END:VEVENT
BEGIN:VEVENT
DTSTART;TZID=America/New_York:20300305T130000
DTEND;TZID=America/New_York:20300305T140000
DTSTAMP:20260421T192807
CREATED:20260109T145103Z
LAST-MODIFIED:20260407T203735Z
UID:10000480-1898946000-1898949600@mylac.org
SUMMARY:Workforce Workshop
DESCRIPTION:Discover your rights and responsibilities as a worker and explore new employment opportunities. \n 
URL:https://mylac.org/event/workforce-workshop-2/2030-03-05/
ATTACH;FMTTYPE=image/png:https://mylac.org/wp-content/uploads/2026/01/5.png
END:VEVENT
BEGIN:VEVENT
DTSTART;TZID=America/New_York:20300306T100000
DTEND;TZID=America/New_York:20300306T120000
DTSTAMP:20260421T192807
CREATED:20260109T150259Z
LAST-MODIFIED:20260407T183816Z
UID:10000742-1899021600-1899028800@mylac.org
SUMMARY:Professional Resume Workshop
DESCRIPTION:Bring your work history and learn how to reframe it as your strengths.  \nRegister Here:
URL:https://mylac.org/event/professional-resume-workshop/2030-03-06/
ATTACH;FMTTYPE=image/png:https://mylac.org/wp-content/uploads/2026/01/7.png
END:VEVENT
END:VCALENDAR