BEGIN:VCALENDAR
VERSION:2.0
PRODID:-//Latin American Coalition - ECPv6.15.20//NONSGML v1.0//EN
CALSCALE:GREGORIAN
METHOD:PUBLISH
X-WR-CALNAME:Latin American Coalition
X-ORIGINAL-URL:https://mylac.org
X-WR-CALDESC:Events for Latin American Coalition
REFRESH-INTERVAL;VALUE=DURATION:PT1H
X-Robots-Tag:noindex
X-PUBLISHED-TTL:PT1H
BEGIN:VTIMEZONE
TZID:America/New_York
BEGIN:DAYLIGHT
TZOFFSETFROM:-0500
TZOFFSETTO:-0400
TZNAME:EDT
DTSTART:20290311T070000
END:DAYLIGHT
BEGIN:STANDARD
TZOFFSETFROM:-0400
TZOFFSETTO:-0500
TZNAME:EST
DTSTART:20291104T060000
END:STANDARD
BEGIN:DAYLIGHT
TZOFFSETFROM:-0500
TZOFFSETTO:-0400
TZNAME:EDT
DTSTART:20300310T070000
END:DAYLIGHT
BEGIN:STANDARD
TZOFFSETFROM:-0400
TZOFFSETTO:-0500
TZNAME:EST
DTSTART:20301103T060000
END:STANDARD
BEGIN:DAYLIGHT
TZOFFSETFROM:-0500
TZOFFSETTO:-0400
TZNAME:EDT
DTSTART:20310309T070000
END:DAYLIGHT
BEGIN:STANDARD
TZOFFSETFROM:-0400
TZOFFSETTO:-0500
TZNAME:EST
DTSTART:20311102T060000
END:STANDARD
BEGIN:DAYLIGHT
TZOFFSETFROM:-0500
TZOFFSETTO:-0400
TZNAME:EDT
DTSTART:20320314T070000
END:DAYLIGHT
BEGIN:STANDARD
TZOFFSETFROM:-0400
TZOFFSETTO:-0500
TZNAME:EST
DTSTART:20321107T060000
END:STANDARD
END:VTIMEZONE
BEGIN:VEVENT
DTSTART;TZID=America/New_York:20301030T100000
DTEND;TZID=America/New_York:20301030T120000
DTSTAMP:20260422T181928
CREATED:20260109T150259Z
LAST-MODIFIED:20260407T183816Z
UID:10000776-1919584800-1919592000@mylac.org
SUMMARY:Professional Resume Workshop
DESCRIPTION:Bring your work history and learn how to reframe it as your strengths.  \nRegister Here:
URL:https://mylac.org/event/professional-resume-workshop/2030-10-30/
ATTACH;FMTTYPE=image/png:https://mylac.org/wp-content/uploads/2026/01/7.png
END:VEVENT
BEGIN:VEVENT
DTSTART;TZID=America/New_York:20301105T130000
DTEND;TZID=America/New_York:20301105T140000
DTSTAMP:20260422T181928
CREATED:20260109T145103Z
LAST-MODIFIED:20260407T203735Z
UID:10000515-1920114000-1920117600@mylac.org
SUMMARY:Workforce Workshop
DESCRIPTION:Discover your rights and responsibilities as a worker and explore new employment opportunities. \n 
URL:https://mylac.org/event/workforce-workshop-2/2030-11-05/
ATTACH;FMTTYPE=image/png:https://mylac.org/wp-content/uploads/2026/01/5.png
END:VEVENT
BEGIN:VEVENT
DTSTART;TZID=America/New_York:20301106T100000
DTEND;TZID=America/New_York:20301106T120000
DTSTAMP:20260422T181928
CREATED:20260109T150259Z
LAST-MODIFIED:20260407T183816Z
UID:10000777-1920189600-1920196800@mylac.org
SUMMARY:Professional Resume Workshop
DESCRIPTION:Bring your work history and learn how to reframe it as your strengths.  \nRegister Here:
URL:https://mylac.org/event/professional-resume-workshop/2030-11-06/
ATTACH;FMTTYPE=image/png:https://mylac.org/wp-content/uploads/2026/01/7.png
END:VEVENT
BEGIN:VEVENT
DTSTART;TZID=America/New_York:20301112T130000
DTEND;TZID=America/New_York:20301112T140000
DTSTAMP:20260422T181928
CREATED:20260109T145103Z
LAST-MODIFIED:20260407T203735Z
UID:10000516-1920718800-1920722400@mylac.org
SUMMARY:Workforce Workshop
DESCRIPTION:Discover your rights and responsibilities as a worker and explore new employment opportunities. \n 
URL:https://mylac.org/event/workforce-workshop-2/2030-11-12/
ATTACH;FMTTYPE=image/png:https://mylac.org/wp-content/uploads/2026/01/5.png
END:VEVENT
BEGIN:VEVENT
DTSTART;TZID=America/New_York:20301113T100000
DTEND;TZID=America/New_York:20301113T120000
DTSTAMP:20260422T181928
CREATED:20260109T150259Z
LAST-MODIFIED:20260407T183816Z
UID:10000778-1920794400-1920801600@mylac.org
SUMMARY:Professional Resume Workshop
DESCRIPTION:Bring your work history and learn how to reframe it as your strengths.  \nRegister Here:
URL:https://mylac.org/event/professional-resume-workshop/2030-11-13/
ATTACH;FMTTYPE=image/png:https://mylac.org/wp-content/uploads/2026/01/7.png
END:VEVENT
BEGIN:VEVENT
DTSTART;TZID=America/New_York:20301119T130000
DTEND;TZID=America/New_York:20301119T140000
DTSTAMP:20260422T181928
CREATED:20260109T145103Z
LAST-MODIFIED:20260407T203735Z
UID:10000517-1921323600-1921327200@mylac.org
SUMMARY:Workforce Workshop
DESCRIPTION:Discover your rights and responsibilities as a worker and explore new employment opportunities. \n 
URL:https://mylac.org/event/workforce-workshop-2/2030-11-19/
ATTACH;FMTTYPE=image/png:https://mylac.org/wp-content/uploads/2026/01/5.png
END:VEVENT
BEGIN:VEVENT
DTSTART;TZID=America/New_York:20301120T100000
DTEND;TZID=America/New_York:20301120T120000
DTSTAMP:20260422T181928
CREATED:20260109T150259Z
LAST-MODIFIED:20260407T183816Z
UID:10000779-1921399200-1921406400@mylac.org
SUMMARY:Professional Resume Workshop
DESCRIPTION:Bring your work history and learn how to reframe it as your strengths.  \nRegister Here:
URL:https://mylac.org/event/professional-resume-workshop/2030-11-20/
ATTACH;FMTTYPE=image/png:https://mylac.org/wp-content/uploads/2026/01/7.png
END:VEVENT
BEGIN:VEVENT
DTSTART;TZID=America/New_York:20301126T130000
DTEND;TZID=America/New_York:20301126T140000
DTSTAMP:20260422T181928
CREATED:20260109T145103Z
LAST-MODIFIED:20260407T203735Z
UID:10000518-1921928400-1921932000@mylac.org
SUMMARY:Workforce Workshop
DESCRIPTION:Discover your rights and responsibilities as a worker and explore new employment opportunities. \n 
URL:https://mylac.org/event/workforce-workshop-2/2030-11-26/
ATTACH;FMTTYPE=image/png:https://mylac.org/wp-content/uploads/2026/01/5.png
END:VEVENT
BEGIN:VEVENT
DTSTART;TZID=America/New_York:20301127T100000
DTEND;TZID=America/New_York:20301127T120000
DTSTAMP:20260422T181928
CREATED:20260109T150259Z
LAST-MODIFIED:20260407T183816Z
UID:10000780-1922004000-1922011200@mylac.org
SUMMARY:Professional Resume Workshop
DESCRIPTION:Bring your work history and learn how to reframe it as your strengths.  \nRegister Here:
URL:https://mylac.org/event/professional-resume-workshop/2030-11-27/
ATTACH;FMTTYPE=image/png:https://mylac.org/wp-content/uploads/2026/01/7.png
END:VEVENT
BEGIN:VEVENT
DTSTART;TZID=America/New_York:20301203T130000
DTEND;TZID=America/New_York:20301203T140000
DTSTAMP:20260422T181928
CREATED:20260109T145103Z
LAST-MODIFIED:20260407T203735Z
UID:10000519-1922533200-1922536800@mylac.org
SUMMARY:Workforce Workshop
DESCRIPTION:Discover your rights and responsibilities as a worker and explore new employment opportunities. \n 
URL:https://mylac.org/event/workforce-workshop-2/2030-12-03/
ATTACH;FMTTYPE=image/png:https://mylac.org/wp-content/uploads/2026/01/5.png
END:VEVENT
BEGIN:VEVENT
DTSTART;TZID=America/New_York:20301204T100000
DTEND;TZID=America/New_York:20301204T120000
DTSTAMP:20260422T181928
CREATED:20260109T150259Z
LAST-MODIFIED:20260407T183816Z
UID:10000781-1922608800-1922616000@mylac.org
SUMMARY:Professional Resume Workshop
DESCRIPTION:Bring your work history and learn how to reframe it as your strengths.  \nRegister Here:
URL:https://mylac.org/event/professional-resume-workshop/2030-12-04/
ATTACH;FMTTYPE=image/png:https://mylac.org/wp-content/uploads/2026/01/7.png
END:VEVENT
BEGIN:VEVENT
DTSTART;TZID=America/New_York:20301210T130000
DTEND;TZID=America/New_York:20301210T140000
DTSTAMP:20260422T181928
CREATED:20260109T145103Z
LAST-MODIFIED:20260407T203735Z
UID:10000520-1923138000-1923141600@mylac.org
SUMMARY:Workforce Workshop
DESCRIPTION:Discover your rights and responsibilities as a worker and explore new employment opportunities. \n 
URL:https://mylac.org/event/workforce-workshop-2/2030-12-10/
ATTACH;FMTTYPE=image/png:https://mylac.org/wp-content/uploads/2026/01/5.png
END:VEVENT
BEGIN:VEVENT
DTSTART;TZID=America/New_York:20301211T100000
DTEND;TZID=America/New_York:20301211T120000
DTSTAMP:20260422T181928
CREATED:20260109T150259Z
LAST-MODIFIED:20260407T183816Z
UID:10000782-1923213600-1923220800@mylac.org
SUMMARY:Professional Resume Workshop
DESCRIPTION:Bring your work history and learn how to reframe it as your strengths.  \nRegister Here:
URL:https://mylac.org/event/professional-resume-workshop/2030-12-11/
ATTACH;FMTTYPE=image/png:https://mylac.org/wp-content/uploads/2026/01/7.png
END:VEVENT
BEGIN:VEVENT
DTSTART;TZID=America/New_York:20301217T130000
DTEND;TZID=America/New_York:20301217T140000
DTSTAMP:20260422T181928
CREATED:20260109T145103Z
LAST-MODIFIED:20260407T203735Z
UID:10000521-1923742800-1923746400@mylac.org
SUMMARY:Workforce Workshop
DESCRIPTION:Discover your rights and responsibilities as a worker and explore new employment opportunities. \n 
URL:https://mylac.org/event/workforce-workshop-2/2030-12-17/
ATTACH;FMTTYPE=image/png:https://mylac.org/wp-content/uploads/2026/01/5.png
END:VEVENT
BEGIN:VEVENT
DTSTART;TZID=America/New_York:20301218T100000
DTEND;TZID=America/New_York:20301218T120000
DTSTAMP:20260422T181928
CREATED:20260109T150259Z
LAST-MODIFIED:20260407T183816Z
UID:10000783-1923818400-1923825600@mylac.org
SUMMARY:Professional Resume Workshop
DESCRIPTION:Bring your work history and learn how to reframe it as your strengths.  \nRegister Here:
URL:https://mylac.org/event/professional-resume-workshop/2030-12-18/
ATTACH;FMTTYPE=image/png:https://mylac.org/wp-content/uploads/2026/01/7.png
END:VEVENT
BEGIN:VEVENT
DTSTART;TZID=America/New_York:20301224T130000
DTEND;TZID=America/New_York:20301224T140000
DTSTAMP:20260422T181928
CREATED:20260109T145103Z
LAST-MODIFIED:20260407T203735Z
UID:10000522-1924347600-1924351200@mylac.org
SUMMARY:Workforce Workshop
DESCRIPTION:Discover your rights and responsibilities as a worker and explore new employment opportunities. \n 
URL:https://mylac.org/event/workforce-workshop-2/2030-12-24/
ATTACH;FMTTYPE=image/png:https://mylac.org/wp-content/uploads/2026/01/5.png
END:VEVENT
BEGIN:VEVENT
DTSTART;TZID=America/New_York:20301225T100000
DTEND;TZID=America/New_York:20301225T120000
DTSTAMP:20260422T181928
CREATED:20260109T150259Z
LAST-MODIFIED:20260407T183816Z
UID:10000784-1924423200-1924430400@mylac.org
SUMMARY:Professional Resume Workshop
DESCRIPTION:Bring your work history and learn how to reframe it as your strengths.  \nRegister Here:
URL:https://mylac.org/event/professional-resume-workshop/2030-12-25/
ATTACH;FMTTYPE=image/png:https://mylac.org/wp-content/uploads/2026/01/7.png
END:VEVENT
BEGIN:VEVENT
DTSTART;TZID=America/New_York:20301231T130000
DTEND;TZID=America/New_York:20301231T140000
DTSTAMP:20260422T181928
CREATED:20260109T145103Z
LAST-MODIFIED:20260407T203735Z
UID:10000523-1924952400-1924956000@mylac.org
SUMMARY:Workforce Workshop
DESCRIPTION:Discover your rights and responsibilities as a worker and explore new employment opportunities. \n 
URL:https://mylac.org/event/workforce-workshop-2/2030-12-31/
ATTACH;FMTTYPE=image/png:https://mylac.org/wp-content/uploads/2026/01/5.png
END:VEVENT
BEGIN:VEVENT
DTSTART;TZID=America/New_York:20310101T100000
DTEND;TZID=America/New_York:20310101T120000
DTSTAMP:20260422T181928
CREATED:20260109T150259Z
LAST-MODIFIED:20260407T183816Z
UID:10000785-1925028000-1925035200@mylac.org
SUMMARY:Professional Resume Workshop
DESCRIPTION:Bring your work history and learn how to reframe it as your strengths.  \nRegister Here:
URL:https://mylac.org/event/professional-resume-workshop/2031-01-01/
ATTACH;FMTTYPE=image/png:https://mylac.org/wp-content/uploads/2026/01/7.png
END:VEVENT
BEGIN:VEVENT
DTSTART;TZID=America/New_York:20310107T130000
DTEND;TZID=America/New_York:20310107T140000
DTSTAMP:20260422T181928
CREATED:20260109T145103Z
LAST-MODIFIED:20260407T203735Z
UID:10000524-1925557200-1925560800@mylac.org
SUMMARY:Workforce Workshop
DESCRIPTION:Discover your rights and responsibilities as a worker and explore new employment opportunities. \n 
URL:https://mylac.org/event/workforce-workshop-2/2031-01-07/
ATTACH;FMTTYPE=image/png:https://mylac.org/wp-content/uploads/2026/01/5.png
END:VEVENT
BEGIN:VEVENT
DTSTART;TZID=America/New_York:20310108T100000
DTEND;TZID=America/New_York:20310108T120000
DTSTAMP:20260422T181928
CREATED:20260109T150259Z
LAST-MODIFIED:20260407T183816Z
UID:10000786-1925632800-1925640000@mylac.org
SUMMARY:Professional Resume Workshop
DESCRIPTION:Bring your work history and learn how to reframe it as your strengths.  \nRegister Here:
URL:https://mylac.org/event/professional-resume-workshop/2031-01-08/
ATTACH;FMTTYPE=image/png:https://mylac.org/wp-content/uploads/2026/01/7.png
END:VEVENT
BEGIN:VEVENT
DTSTART;TZID=America/New_York:20310114T130000
DTEND;TZID=America/New_York:20310114T140000
DTSTAMP:20260422T181928
CREATED:20260109T145103Z
LAST-MODIFIED:20260407T203735Z
UID:10000866-1926162000-1926165600@mylac.org
SUMMARY:Workforce Workshop
DESCRIPTION:Discover your rights and responsibilities as a worker and explore new employment opportunities. \n 
URL:https://mylac.org/event/workforce-workshop-2/2031-01-14/
ATTACH;FMTTYPE=image/png:https://mylac.org/wp-content/uploads/2026/01/5.png
END:VEVENT
BEGIN:VEVENT
DTSTART;TZID=America/New_York:20310115T100000
DTEND;TZID=America/New_York:20310115T120000
DTSTAMP:20260422T181928
CREATED:20260109T150259Z
LAST-MODIFIED:20260407T183816Z
UID:10000869-1926237600-1926244800@mylac.org
SUMMARY:Professional Resume Workshop
DESCRIPTION:Bring your work history and learn how to reframe it as your strengths.  \nRegister Here:
URL:https://mylac.org/event/professional-resume-workshop/2031-01-15/
ATTACH;FMTTYPE=image/png:https://mylac.org/wp-content/uploads/2026/01/7.png
END:VEVENT
BEGIN:VEVENT
DTSTART;TZID=America/New_York:20310121T130000
DTEND;TZID=America/New_York:20310121T140000
DTSTAMP:20260422T181928
CREATED:20260109T145103Z
LAST-MODIFIED:20260407T203735Z
UID:10000867-1926766800-1926770400@mylac.org
SUMMARY:Workforce Workshop
DESCRIPTION:Discover your rights and responsibilities as a worker and explore new employment opportunities. \n 
URL:https://mylac.org/event/workforce-workshop-2/2031-01-21/
ATTACH;FMTTYPE=image/png:https://mylac.org/wp-content/uploads/2026/01/5.png
END:VEVENT
BEGIN:VEVENT
DTSTART;TZID=America/New_York:20310122T100000
DTEND;TZID=America/New_York:20310122T120000
DTSTAMP:20260422T181928
CREATED:20260109T150259Z
LAST-MODIFIED:20260407T183816Z
UID:10000870-1926842400-1926849600@mylac.org
SUMMARY:Professional Resume Workshop
DESCRIPTION:Bring your work history and learn how to reframe it as your strengths.  \nRegister Here:
URL:https://mylac.org/event/professional-resume-workshop/2031-01-22/
ATTACH;FMTTYPE=image/png:https://mylac.org/wp-content/uploads/2026/01/7.png
END:VEVENT
BEGIN:VEVENT
DTSTART;TZID=America/New_York:20310128T130000
DTEND;TZID=America/New_York:20310128T140000
DTSTAMP:20260422T181928
CREATED:20260109T145103Z
LAST-MODIFIED:20260407T203735Z
UID:10000868-1927371600-1927375200@mylac.org
SUMMARY:Workforce Workshop
DESCRIPTION:Discover your rights and responsibilities as a worker and explore new employment opportunities. \n 
URL:https://mylac.org/event/workforce-workshop-2/2031-01-28/
ATTACH;FMTTYPE=image/png:https://mylac.org/wp-content/uploads/2026/01/5.png
END:VEVENT
BEGIN:VEVENT
DTSTART;TZID=America/New_York:20310129T100000
DTEND;TZID=America/New_York:20310129T120000
DTSTAMP:20260422T181928
CREATED:20260109T150259Z
LAST-MODIFIED:20260407T183816Z
UID:10000871-1927447200-1927454400@mylac.org
SUMMARY:Professional Resume Workshop
DESCRIPTION:Bring your work history and learn how to reframe it as your strengths.  \nRegister Here:
URL:https://mylac.org/event/professional-resume-workshop/2031-01-29/
ATTACH;FMTTYPE=image/png:https://mylac.org/wp-content/uploads/2026/01/7.png
END:VEVENT
BEGIN:VEVENT
DTSTART;TZID=America/New_York:20310204T130000
DTEND;TZID=America/New_York:20310204T140000
DTSTAMP:20260422T181928
CREATED:20260109T145103Z
LAST-MODIFIED:20260407T203735Z
UID:10000959-1927976400-1927980000@mylac.org
SUMMARY:Workforce Workshop
DESCRIPTION:Discover your rights and responsibilities as a worker and explore new employment opportunities. \n 
URL:https://mylac.org/event/workforce-workshop-2/2031-02-04/
ATTACH;FMTTYPE=image/png:https://mylac.org/wp-content/uploads/2026/01/5.png
END:VEVENT
BEGIN:VEVENT
DTSTART;TZID=America/New_York:20310205T100000
DTEND;TZID=America/New_York:20310205T120000
DTSTAMP:20260422T181928
CREATED:20260109T150259Z
LAST-MODIFIED:20260407T183816Z
UID:10001190-1928052000-1928059200@mylac.org
SUMMARY:Professional Resume Workshop
DESCRIPTION:Bring your work history and learn how to reframe it as your strengths.  \nRegister Here:
URL:https://mylac.org/event/professional-resume-workshop/2031-02-05/
ATTACH;FMTTYPE=image/png:https://mylac.org/wp-content/uploads/2026/01/7.png
END:VEVENT
BEGIN:VEVENT
DTSTART;TZID=America/New_York:20310211T130000
DTEND;TZID=America/New_York:20310211T140000
DTSTAMP:20260422T181928
CREATED:20260109T145103Z
LAST-MODIFIED:20260407T203735Z
UID:10001188-1928581200-1928584800@mylac.org
SUMMARY:Workforce Workshop
DESCRIPTION:Discover your rights and responsibilities as a worker and explore new employment opportunities. \n 
URL:https://mylac.org/event/workforce-workshop-2/2031-02-11/
ATTACH;FMTTYPE=image/png:https://mylac.org/wp-content/uploads/2026/01/5.png
END:VEVENT
END:VCALENDAR