BEGIN:VCALENDAR
VERSION:2.0
PRODID:-//Latin American Coalition - ECPv6.15.20//NONSGML v1.0//EN
CALSCALE:GREGORIAN
METHOD:PUBLISH
X-WR-CALNAME:Latin American Coalition
X-ORIGINAL-URL:https://mylac.org
X-WR-CALDESC:Events for Latin American Coalition
REFRESH-INTERVAL;VALUE=DURATION:PT1H
X-Robots-Tag:noindex
X-PUBLISHED-TTL:PT1H
BEGIN:VTIMEZONE
TZID:America/New_York
BEGIN:DAYLIGHT
TZOFFSETFROM:-0500
TZOFFSETTO:-0400
TZNAME:EDT
DTSTART:20300310T070000
END:DAYLIGHT
BEGIN:STANDARD
TZOFFSETFROM:-0400
TZOFFSETTO:-0500
TZNAME:EST
DTSTART:20301103T060000
END:STANDARD
BEGIN:DAYLIGHT
TZOFFSETFROM:-0500
TZOFFSETTO:-0400
TZNAME:EDT
DTSTART:20310309T070000
END:DAYLIGHT
BEGIN:STANDARD
TZOFFSETFROM:-0400
TZOFFSETTO:-0500
TZNAME:EST
DTSTART:20311102T060000
END:STANDARD
BEGIN:DAYLIGHT
TZOFFSETFROM:-0500
TZOFFSETTO:-0400
TZNAME:EDT
DTSTART:20320314T070000
END:DAYLIGHT
BEGIN:STANDARD
TZOFFSETFROM:-0400
TZOFFSETTO:-0500
TZNAME:EST
DTSTART:20321107T060000
END:STANDARD
END:VTIMEZONE
BEGIN:VEVENT
DTSTART;TZID=America/New_York:20310129T100000
DTEND;TZID=America/New_York:20310129T120000
DTSTAMP:20260422T180013
CREATED:20260109T150259Z
LAST-MODIFIED:20260407T183816Z
UID:10000871-1927447200-1927454400@mylac.org
SUMMARY:Professional Resume Workshop
DESCRIPTION:Bring your work history and learn how to reframe it as your strengths.  \nRegister Here:
URL:https://mylac.org/event/professional-resume-workshop/2031-01-29/
ATTACH;FMTTYPE=image/png:https://mylac.org/wp-content/uploads/2026/01/7.png
END:VEVENT
BEGIN:VEVENT
DTSTART;TZID=America/New_York:20310204T130000
DTEND;TZID=America/New_York:20310204T140000
DTSTAMP:20260422T180013
CREATED:20260109T145103Z
LAST-MODIFIED:20260407T203735Z
UID:10000959-1927976400-1927980000@mylac.org
SUMMARY:Workforce Workshop
DESCRIPTION:Discover your rights and responsibilities as a worker and explore new employment opportunities. \n 
URL:https://mylac.org/event/workforce-workshop-2/2031-02-04/
ATTACH;FMTTYPE=image/png:https://mylac.org/wp-content/uploads/2026/01/5.png
END:VEVENT
BEGIN:VEVENT
DTSTART;TZID=America/New_York:20310205T100000
DTEND;TZID=America/New_York:20310205T120000
DTSTAMP:20260422T180013
CREATED:20260109T150259Z
LAST-MODIFIED:20260407T183816Z
UID:10001190-1928052000-1928059200@mylac.org
SUMMARY:Professional Resume Workshop
DESCRIPTION:Bring your work history and learn how to reframe it as your strengths.  \nRegister Here:
URL:https://mylac.org/event/professional-resume-workshop/2031-02-05/
ATTACH;FMTTYPE=image/png:https://mylac.org/wp-content/uploads/2026/01/7.png
END:VEVENT
BEGIN:VEVENT
DTSTART;TZID=America/New_York:20310211T130000
DTEND;TZID=America/New_York:20310211T140000
DTSTAMP:20260422T180013
CREATED:20260109T145103Z
LAST-MODIFIED:20260407T203735Z
UID:10001188-1928581200-1928584800@mylac.org
SUMMARY:Workforce Workshop
DESCRIPTION:Discover your rights and responsibilities as a worker and explore new employment opportunities. \n 
URL:https://mylac.org/event/workforce-workshop-2/2031-02-11/
ATTACH;FMTTYPE=image/png:https://mylac.org/wp-content/uploads/2026/01/5.png
END:VEVENT
BEGIN:VEVENT
DTSTART;TZID=America/New_York:20310212T100000
DTEND;TZID=America/New_York:20310212T120000
DTSTAMP:20260422T180013
CREATED:20260109T150259Z
LAST-MODIFIED:20260407T183816Z
UID:10001191-1928656800-1928664000@mylac.org
SUMMARY:Professional Resume Workshop
DESCRIPTION:Bring your work history and learn how to reframe it as your strengths.  \nRegister Here:
URL:https://mylac.org/event/professional-resume-workshop/2031-02-12/
ATTACH;FMTTYPE=image/png:https://mylac.org/wp-content/uploads/2026/01/7.png
END:VEVENT
BEGIN:VEVENT
DTSTART;TZID=America/New_York:20310218T130000
DTEND;TZID=America/New_York:20310218T140000
DTSTAMP:20260422T180013
CREATED:20260109T145103Z
LAST-MODIFIED:20260407T203735Z
UID:10001189-1929186000-1929189600@mylac.org
SUMMARY:Workforce Workshop
DESCRIPTION:Discover your rights and responsibilities as a worker and explore new employment opportunities. \n 
URL:https://mylac.org/event/workforce-workshop-2/2031-02-18/
ATTACH;FMTTYPE=image/png:https://mylac.org/wp-content/uploads/2026/01/5.png
END:VEVENT
BEGIN:VEVENT
DTSTART;TZID=America/New_York:20310219T100000
DTEND;TZID=America/New_York:20310219T120000
DTSTAMP:20260422T180013
CREATED:20260109T150259Z
LAST-MODIFIED:20260407T183816Z
UID:10001192-1929261600-1929268800@mylac.org
SUMMARY:Professional Resume Workshop
DESCRIPTION:Bring your work history and learn how to reframe it as your strengths.  \nRegister Here:
URL:https://mylac.org/event/professional-resume-workshop/2031-02-19/
ATTACH;FMTTYPE=image/png:https://mylac.org/wp-content/uploads/2026/01/7.png
END:VEVENT
BEGIN:VEVENT
DTSTART;TZID=America/New_York:20310225T130000
DTEND;TZID=America/New_York:20310225T140000
DTSTAMP:20260422T180013
CREATED:20260109T145103Z
LAST-MODIFIED:20260407T203735Z
UID:10001314-1929790800-1929794400@mylac.org
SUMMARY:Workforce Workshop
DESCRIPTION:Discover your rights and responsibilities as a worker and explore new employment opportunities. \n 
URL:https://mylac.org/event/workforce-workshop-2/2031-02-25/
ATTACH;FMTTYPE=image/png:https://mylac.org/wp-content/uploads/2026/01/5.png
END:VEVENT
BEGIN:VEVENT
DTSTART;TZID=America/New_York:20310226T100000
DTEND;TZID=America/New_York:20310226T120000
DTSTAMP:20260422T180013
CREATED:20260109T150259Z
LAST-MODIFIED:20260407T183816Z
UID:10001308-1929866400-1929873600@mylac.org
SUMMARY:Professional Resume Workshop
DESCRIPTION:Bring your work history and learn how to reframe it as your strengths.  \nRegister Here:
URL:https://mylac.org/event/professional-resume-workshop/2031-02-26/
ATTACH;FMTTYPE=image/png:https://mylac.org/wp-content/uploads/2026/01/7.png
END:VEVENT
BEGIN:VEVENT
DTSTART;TZID=America/New_York:20310304T130000
DTEND;TZID=America/New_York:20310304T140000
DTSTAMP:20260422T180013
CREATED:20260109T145103Z
LAST-MODIFIED:20260407T203735Z
UID:10001315-1930395600-1930399200@mylac.org
SUMMARY:Workforce Workshop
DESCRIPTION:Discover your rights and responsibilities as a worker and explore new employment opportunities. \n 
URL:https://mylac.org/event/workforce-workshop-2/2031-03-04/
ATTACH;FMTTYPE=image/png:https://mylac.org/wp-content/uploads/2026/01/5.png
END:VEVENT
BEGIN:VEVENT
DTSTART;TZID=America/New_York:20310305T100000
DTEND;TZID=America/New_York:20310305T120000
DTSTAMP:20260422T180013
CREATED:20260109T150259Z
LAST-MODIFIED:20260407T183816Z
UID:10001309-1930471200-1930478400@mylac.org
SUMMARY:Professional Resume Workshop
DESCRIPTION:Bring your work history and learn how to reframe it as your strengths.  \nRegister Here:
URL:https://mylac.org/event/professional-resume-workshop/2031-03-05/
ATTACH;FMTTYPE=image/png:https://mylac.org/wp-content/uploads/2026/01/7.png
END:VEVENT
BEGIN:VEVENT
DTSTART;TZID=America/New_York:20310311T130000
DTEND;TZID=America/New_York:20310311T140000
DTSTAMP:20260422T180013
CREATED:20260109T145103Z
LAST-MODIFIED:20260407T203735Z
UID:10001316-1931000400-1931004000@mylac.org
SUMMARY:Workforce Workshop
DESCRIPTION:Discover your rights and responsibilities as a worker and explore new employment opportunities. \n 
URL:https://mylac.org/event/workforce-workshop-2/2031-03-11/
ATTACH;FMTTYPE=image/png:https://mylac.org/wp-content/uploads/2026/01/5.png
END:VEVENT
BEGIN:VEVENT
DTSTART;TZID=America/New_York:20310312T100000
DTEND;TZID=America/New_York:20310312T120000
DTSTAMP:20260422T180013
CREATED:20260109T150259Z
LAST-MODIFIED:20260407T183816Z
UID:10001310-1931076000-1931083200@mylac.org
SUMMARY:Professional Resume Workshop
DESCRIPTION:Bring your work history and learn how to reframe it as your strengths.  \nRegister Here:
URL:https://mylac.org/event/professional-resume-workshop/2031-03-12/
ATTACH;FMTTYPE=image/png:https://mylac.org/wp-content/uploads/2026/01/7.png
END:VEVENT
BEGIN:VEVENT
DTSTART;TZID=America/New_York:20310318T130000
DTEND;TZID=America/New_York:20310318T140000
DTSTAMP:20260422T180013
CREATED:20260109T145103Z
LAST-MODIFIED:20260407T203735Z
UID:10001317-1931605200-1931608800@mylac.org
SUMMARY:Workforce Workshop
DESCRIPTION:Discover your rights and responsibilities as a worker and explore new employment opportunities. \n 
URL:https://mylac.org/event/workforce-workshop-2/2031-03-18/
ATTACH;FMTTYPE=image/png:https://mylac.org/wp-content/uploads/2026/01/5.png
END:VEVENT
BEGIN:VEVENT
DTSTART;TZID=America/New_York:20310319T100000
DTEND;TZID=America/New_York:20310319T120000
DTSTAMP:20260422T180013
CREATED:20260109T150259Z
LAST-MODIFIED:20260407T183816Z
UID:10001311-1931680800-1931688000@mylac.org
SUMMARY:Professional Resume Workshop
DESCRIPTION:Bring your work history and learn how to reframe it as your strengths.  \nRegister Here:
URL:https://mylac.org/event/professional-resume-workshop/2031-03-19/
ATTACH;FMTTYPE=image/png:https://mylac.org/wp-content/uploads/2026/01/7.png
END:VEVENT
BEGIN:VEVENT
DTSTART;TZID=America/New_York:20310325T130000
DTEND;TZID=America/New_York:20310325T140000
DTSTAMP:20260422T180013
CREATED:20260109T145103Z
LAST-MODIFIED:20260407T203735Z
UID:10001318-1932210000-1932213600@mylac.org
SUMMARY:Workforce Workshop
DESCRIPTION:Discover your rights and responsibilities as a worker and explore new employment opportunities. \n 
URL:https://mylac.org/event/workforce-workshop-2/2031-03-25/
ATTACH;FMTTYPE=image/png:https://mylac.org/wp-content/uploads/2026/01/5.png
END:VEVENT
BEGIN:VEVENT
DTSTART;TZID=America/New_York:20310326T100000
DTEND;TZID=America/New_York:20310326T120000
DTSTAMP:20260422T180013
CREATED:20260109T150259Z
LAST-MODIFIED:20260407T183816Z
UID:10001312-1932285600-1932292800@mylac.org
SUMMARY:Professional Resume Workshop
DESCRIPTION:Bring your work history and learn how to reframe it as your strengths.  \nRegister Here:
URL:https://mylac.org/event/professional-resume-workshop/2031-03-26/
ATTACH;FMTTYPE=image/png:https://mylac.org/wp-content/uploads/2026/01/7.png
END:VEVENT
BEGIN:VEVENT
DTSTART;TZID=America/New_York:20310401T130000
DTEND;TZID=America/New_York:20310401T140000
DTSTAMP:20260422T180013
CREATED:20260109T145103Z
LAST-MODIFIED:20260407T203735Z
UID:10001319-1932814800-1932818400@mylac.org
SUMMARY:Workforce Workshop
DESCRIPTION:Discover your rights and responsibilities as a worker and explore new employment opportunities. \n 
URL:https://mylac.org/event/workforce-workshop-2/2031-04-01/
ATTACH;FMTTYPE=image/png:https://mylac.org/wp-content/uploads/2026/01/5.png
END:VEVENT
BEGIN:VEVENT
DTSTART;TZID=America/New_York:20310402T100000
DTEND;TZID=America/New_York:20310402T120000
DTSTAMP:20260422T180013
CREATED:20260109T150259Z
LAST-MODIFIED:20260407T183816Z
UID:10001313-1932890400-1932897600@mylac.org
SUMMARY:Professional Resume Workshop
DESCRIPTION:Bring your work history and learn how to reframe it as your strengths.  \nRegister Here:
URL:https://mylac.org/event/professional-resume-workshop/2031-04-02/
ATTACH;FMTTYPE=image/png:https://mylac.org/wp-content/uploads/2026/01/7.png
END:VEVENT
END:VCALENDAR